{"text_format":"1","workbook":"xlsx","n_sheets":4,"sheets":["fiú","Be","Egyéni","Csapat"],"not_rendered":{"charts":0,"images":0,"macros":1,"external_links":1,"defined_names":10,"comments":0,"pivot_tables":0},"unopened":[],"bounds":{"document_bytes":16777216,"sheet_cells":100000,"rows_first":2000,"rows_last":500,"rows_between":2000,"halvings":0,"cell_chars":16384,"cell_head_chars":4096},"cells_cut":0,"cells_raw":0,"read":"whole","date_system":"1900"}

{"sheet":"fiú","index":0,"n_rows":302,"n_cols":14,"rows_kept":302,"cut":false,"hidden":true,"merged":[]}
[null,"101 m","40m","801 m","4x100 m","Pont","Távol","Súlyl.","Kisl.","Pont"]
[null,6.21,6.22,"00:00:49.900","00:00:50",300,{"$f":"N2/100","v":1.8},3,4,0,null,null,null,180]
[null,{"$f":"C2+0.0051","v":6.2250999999999994},{"$f":"C4-(C$52-C$2)/50","v":6.2396000000000189},{"$f":"E2+0.000000053","v":"00:00:50.005"},{"$f":"E4-(E$52-E$2)/50","v":"00:00:50.080"},299,1.8234000000000001,3.06,4.3600000000000003,1,null,null,null,182.34]
[null,6.2447000000000186,6.2592000000000185,"00:00:50.085","00:00:50.160",298,1.8468,3.12,4.7300000000000004,2,null,null,null,184.68]
[null,6.2643000000000182,6.2788000000000181,"00:00:50.165","00:00:50.240",297,1.8702000000000001,3.17,5.09,3,null,null,null,187.02]
[null,6.2839000000000178,6.2984000000000178,"00:00:50.245","00:00:50.320",296,1.8936000000000002,3.23,5.46,4,null,null,null,189.36]
[null,6.3035000000000174,6.3180000000000174,"00:00:50.325","00:00:50.400",295,1.9169999999999998,3.29,5.82,5,null,null,null,191.7]
[null,6.323100000000017,6.337600000000017,"00:00:50.405","00:00:50.480",294,1.9403999999999999,3.35,6.19,6,null,null,null,194.04]
[null,6.3427000000000167,6.3572000000000166,"00:00:50.485","00:00:50.560",293,1.9638,3.4,6.55,7,null,null,null,196.38]
[null,6.3623000000000163,6.3768000000000162,"00:00:50.565","00:00:50.640",292,1.9872000000000001,3.46,6.92,8,null,null,null,198.72]
[null,6.3819000000000159,6.3964000000000159,"00:00:50.645","00:00:50.720",291,2.0106000000000002,3.52,7.28,9,null,null,null,201.06]
[null,6.4015000000000155,6.4160000000000155,"00:00:50.725","00:00:50.800",290,2.0340000000000003,3.58,7.65,10,null,null,null,203.4]
[null,6.4211000000000151,6.4356000000000151,"00:00:50.805","00:00:50.880",289,2.0573999999999999,3.63,8.01,11,null,null,null,205.74]
[null,6.4407000000000147,6.4552000000000147,"00:00:50.885","00:00:50.960",288,2.0808,3.69,8.3800000000000008,12,null,null,null,208.08]
[null,6.4603000000000144,6.4748000000000143,"00:00:50.965","00:00:51.040",287,2.1042000000000001,3.75,8.74,13,null,null,null,210.42]
[null,6.479900000000014,6.4944000000000139,"00:00:51.045","00:00:51.120",286,2.1275999999999997,3.81,9.11,14,null,null,null,212.76]
[null,6.4995000000000136,6.5140000000000136,"00:00:51.125","00:00:51.200",285,2.1509999999999998,3.86,9.4700000000000006,15,null,null,null,215.1]
[null,6.5191000000000132,6.5336000000000132,"00:00:51.205","00:00:51.280",284,2.1743999999999999,3.92,9.84,16,null,null,null,217.44]
[null,6.5387000000000128,6.5532000000000128,"00:00:51.285","00:00:51.360",283,2.1978,3.98,10.199999999999999,17,null,null,null,219.78]
[null,6.5583000000000125,6.5728000000000124,"00:00:51.365","00:00:51.440",282,2.2212000000000001,4.04,10.57,18,null,null,null,222.12]
[null,6.5779000000000121,6.592400000000012,{"$f":"E20+0.000000052","v":"00:00:51.444"},"00:00:51.520",281,2.2446000000000002,4.09,10.93,19,null,null,null,224.46]
[null,6.5975000000000117,6.6120000000000116,{"$f":"E21+0.000000069","v":"00:00:51.526"},"00:00:51.600",280,2.2680000000000002,4.1500000000000004,11.3,20,null,null,null,226.8]
[null,6.6171000000000113,6.6316000000000113,{"$f":"E22+0.000000053","v":"00:00:51.605"},"00:00:51.680",279,2.2913999999999999,4.21,11.66,21,null,null,null,229.14]
[null,6.6367000000000109,6.6512000000000109,{"$f":"E23+0.000000053","v":"00:00:51.685"},"00:00:51.760",278,2.3148,4.2699999999999996,12.03,22,null,null,null,231.48]
[null,6.6563000000000105,6.6708000000000105,{"$f":"E24+0.000000053","v":"00:00:51.765"},"00:00:51.840",277,2.3382000000000001,4.32,12.39,23,null,null,null,233.82]
[null,6.6759000000000102,6.6904000000000101,{"$f":"E25+0.000000069","v":"00:00:51.846"},"00:00:51.920",276,2.3616000000000001,4.38,12.76,24,null,null,null,236.16]
[null,6.6955000000000098,6.7100000000000097,{"$f":"E26+0.000000052","v":"00:00:51.924"},"00:00:52",275,2.3849999999999998,4.4400000000000004,13.12,25,null,null,null,238.5]
[null,6.7151000000000094,6.7296000000000094,{"$f":"E27+0.000000052","v":"00:00:52.004"},"00:00:52.080",274,2.4083999999999999,4.5,13.48,26,null,null,null,240.84]
[null,6.734700000000009,6.749200000000009,{"$f":"E28+0.000000053","v":"00:00:52.085"},"00:00:52.160",273,2.4318,4.5599999999999996,13.85,27,null,null,null,243.18]
[null,6.7543000000000086,6.7688000000000086,{"$f":"E29+0.000000053","v":"00:00:52.165"},"00:00:52.240",272,2.4552,4.6100000000000003,14.21,28,null,null,null,245.52]
[null,6.7739000000000082,6.7884000000000082,{"$f":"E30+0.000000053","v":"00:00:52.245"},"00:00:52.320",271,2.4786000000000001,4.67,14.58,29,null,null,null,247.86]
[null,6.7935000000000079,6.8080000000000078,{"$f":"E31+0.000000053","v":"00:00:52.325"},"00:00:52.400",270,2.5019999999999998,4.7300000000000004,14.94,30,null,null,null,250.2]
[null,6.8131000000000075,6.8276000000000074,{"$f":"E32+0.000000052","v":"00:00:52.404"},"00:00:52.480",269,2.5253999999999999,4.79,15.31,31,null,null,null,252.54]
[null,6.8327000000000071,6.8472000000000071,{"$f":"E33+0.000000052","v":"00:00:52.484"},"00:00:52.560",268,2.5488,4.84,15.67,32,null,null,null,254.88]
[null,6.8523000000000067,{"$f":"C36-(C$52-C$2)/50","v":6.8668000000000067},{"$f":"E34+0.000000053","v":"00:00:52.565"},{"$f":"E36-(E$52-E$2)/50","v":"00:00:52.640"},267,2.5722000000000005,4.9000000000000004,16.04,33,null,null,null,257.22000000000003]
[null,6.8719000000000063,6.8864000000000063,{"$f":"E35+0.000000053","v":"00:00:52.645"},"00:00:52.720",266,2.5956000000000001,4.96,16.399999999999999,34,null,null,null,259.56]
[null,6.891500000000006,6.9060000000000059,{"$f":"E36+0.000000053","v":"00:00:52.725"},"00:00:52.800",265,2.6189999999999998,5.0199999999999996,16.77,35,null,null,null,261.89999999999998]
[null,6.9111000000000056,6.9256000000000055,{"$f":"E37+0.000000053","v":"00:00:52.805"},"00:00:52.880",264,2.6424000000000003,5.07,17.13,36,null,null,null,264.24]
[null,6.9307000000000052,6.9452000000000051,{"$f":"E38+0.000000052","v":"00:00:52.884"},"00:00:52.960",263,2.6657999999999999,5.13,17.5,37,null,null,null,266.58]
[null,6.9503000000000048,6.9648000000000048,{"$f":"E39+0.000000052","v":"00:00:52.964"},"00:00:53.040",262,2.6892,5.19,17.86,38,null,null,null,268.92]
[null,6.9699000000000044,6.9844000000000044,{"$f":"E40+0.000000053","v":"00:00:53.045"},"00:00:53.120",261,2.7126000000000001,5.25,18.23,39,null,null,null,271.26]
[null,6.989500000000004,7.004000000000004,{"$f":"E41+0.000000053","v":"00:00:53.125"},"00:00:53.200",260,2.7360000000000002,5.3,18.59,40,null,null,null,273.60000000000002]
[null,7.0091000000000037,7.0236000000000036,{"$f":"E42+0.000000053","v":"00:00:53.205"},"00:00:53.280",259,2.7593999999999999,5.36,18.96,41,null,null,null,275.94]
[null,7.0287000000000033,7.0432000000000032,{"$f":"E43+0.000000053","v":"00:00:53.285"},"00:00:53.360",258,2.7827999999999999,5.42,19.32,42,null,null,null,278.27999999999997]
[null,7.0483000000000029,7.0628000000000029,{"$f":"E44+0.000000052","v":"00:00:53.364"},"00:00:53.440",257,2.8062,5.48,19.690000000000001,43,null,null,null,280.62]
[null,7.0679000000000025,7.0824000000000025,{"$f":"E45+0.000000052","v":"00:00:53.444"},"00:00:53.520",256,2.8295999999999997,5.53,20.05,44,null,null,null,282.95999999999998]
[null,7.0875000000000021,7.1020000000000021,{"$f":"E46+0.000000069","v":"00:00:53.526"},"00:00:53.600",255,2.8530000000000002,5.59,20.420000000000002,45,null,null,null,285.3]
[null,7.1071000000000017,7.1216000000000017,{"$f":"E47+0.000000053","v":"00:00:53.605"},"00:00:53.680",254,2.8763999999999998,5.65,20.78,46,null,null,null,287.64]
[null,7.1267000000000014,7.1412000000000013,{"$f":"E48+0.000000053","v":"00:00:53.685"},"00:00:53.760",253,2.8998000000000004,5.71,21.15,47,null,null,null,289.98]
[null,7.146300000000001,7.1608000000000009,{"$f":"E49+0.000000053","v":"00:00:53.765"},"00:00:53.840",252,2.9232,5.76,21.51,48,null,null,null,292.32]
[null,7.1659000000000006,7.1804000000000006,{"$f":"E50+0.000000069","v":"00:00:53.846"},"00:00:53.920",251,2.9466000000000001,5.82,21.88,49,null,null,null,294.66000000000003]
[null,7.1855000000000002,7.2,{"$f":"E51+0.000000052","v":"00:00:53.924"},"00:00:54",250,2.97,5.88,22.24,50,null,null,null,297]
[null,7.2050999999999998,7.22,{"$f":"E52+0.000000053","v":"00:00:54.005"},"00:00:54.083",249,2.9916,5.93,22.57,51,null,null,null,299.16000000000003]
[null,7.2250999999999994,7.24,{"$f":"E53+0.000000053","v":"00:00:54.088"},"00:00:54.166",248,3.0131999999999999,5.99,22.91,52,null,null,null,301.32]
[null,7.2450999999999999,7.26,{"$f":"E54+0.000000053","v":"00:00:54.171"},"00:00:54.250",247,3.0348000000000002,6.04,23.24,53,null,null,null,303.48]
[null,7.2650999999999994,7.28,{"$f":"E55+0.000000053","v":"00:00:54.254"},"00:00:54.333",246,3.0564,6.09,23.58,54,null,null,null,305.64]
[null,7.2850999999999999,7.3,{"$f":"E56+0.000000052","v":"00:00:54.337"},"00:00:54.416",245,3.0780000000000003,6.14,23.91,55,null,null,null,307.8]
[null,7.3050999999999995,7.32,{"$f":"E57+0.000000062","v":"00:00:54.421"},"00:00:54.499",244,3.0995999999999997,6.2,24.25,56,null,null,null,309.95999999999998]
[null,7.3250999999999999,7.33,{"$f":"E58+0.000000053","v":"00:00:54.504"},"00:00:54.582",243,3.1212,6.25,24.58,57,null,null,null,312.12]
[null,7.3350999999999997,7.35,{"$f":"E59+0.000000053","v":"00:00:54.587"},"00:00:54.666",242,3.1427999999999998,6.3,24.92,58,null,null,null,314.27999999999997]
[null,7.3550999999999993,7.37,{"$f":"E60+0.000000063","v":"00:00:54.671"},"00:00:54.749",241,3.1644000000000001,6.36,25.25,59,null,null,null,316.44]
[null,7.3750999999999998,7.39,{"$f":"E61+0.000000053","v":"00:00:54.753"},"00:00:54.832",240,3.1860000000000004,6.41,25.58,60,null,null,null,318.60000000000002]
[null,7.3950999999999993,7.41,{"$f":"E62+0.000000052","v":"00:00:54.836"},"00:00:54.915",239,3.2075999999999998,6.46,25.92,61,null,null,null,320.76]
[null,7.4150999999999998,7.43,{"$f":"E63+0.000000052","v":"00:00:54.920"},"00:00:54.998",238,3.2292000000000001,6.51,26.25,62,null,null,null,322.92]
[null,7.4350999999999994,7.45,{"$f":"E64+0.000000053","v":"00:00:55.003"},"00:00:55.082",237,3.2507999999999999,6.57,26.59,63,null,null,null,325.08]
[null,7.4550999999999998,7.47,{"$f":"E65+0.000000053","v":"00:00:55.086"},"00:00:55.165",236,{"$f":"N66/100","v":3.2724000000000002},6.62,26.92,64,null,null,null,327.24]
[null,{"$f":"C66+0.0051","v":7.4750999999999994},7.49,{"$f":"E66+0.000000053","v":"00:00:55.169"},"00:00:55.248",235,3.2939999999999996,6.67,27.26,65,null,null,null,329.4]
[null,7.4950999999999999,7.51,{"$f":"E67+0.000000053","v":"00:00:55.253"},"00:00:55.331",234,3.3155999999999999,6.72,27.59,66,null,null,null,331.56]
[null,7.5150999999999994,7.53,{"$f":"E68+0.000000052","v":"00:00:55.336"},"00:00:55.414",233,3.3372000000000002,6.78,27.92,67,null,null,null,333.72]
[null,7.5350999999999999,7.55,{"$f":"E69+0.000000052","v":"00:00:55.419"},"00:00:55.498",232,3.3588,6.83,28.26,68,null,null,null,335.88]
[null,7.5550999999999995,7.56,{"$f":"E70+0.000000053","v":"00:00:55.502"},"00:00:55.581",231,3.3804000000000003,6.88,28.59,69,null,null,null,338.04]
[null,7.5650999999999993,7.58,{"$f":"E71+0.000000069","v":"00:00:55.587"},"00:00:55.664",230,3.4019999999999997,6.94,28.93,70,null,null,null,340.2]
[null,7.5850999999999997,7.6,{"$f":"E72+0.000000053","v":"00:00:55.669"},"00:00:55.747",229,3.4236,6.99,29.26,71,null,null,null,342.36]
[null,7.6050999999999993,7.62,{"$f":"E73+0.000000053","v":"00:00:55.752"},"00:00:55.830",228,3.4451999999999998,7.04,29.6,72,null,null,null,344.52]
[null,7.6250999999999998,7.64,{"$f":"E74+0.000000052","v":"00:00:55.835"},"00:00:55.914",227,3.4668000000000001,7.09,29.93,73,null,null,null,346.68]
[null,7.6450999999999993,7.66,{"$f":"E75+0.000000049","v":"00:00:55.918"},"00:00:55.997",226,3.4883999999999999,7.15,30.27,74,null,null,null,348.84]
[null,7.6650999999999998,7.68,{"$f":"E76+0.000000053","v":"00:00:56.001"},"00:00:56.080",225,3.51,7.2,30.6,75,null,null,null,351]
[null,7.6850999999999994,7.7,{"$f":"E77+0.000000053","v":"00:00:56.085"},"00:00:56.163",224,3.5316000000000001,7.25,30.93,76,null,null,null,353.16]
[null,7.7050999999999998,7.72,{"$f":"E78+0.000000053","v":"00:00:56.168"},"00:00:56.246",223,3.5531999999999999,7.31,31.27,77,null,null,null,355.32]
[null,7.7250999999999994,7.74,{"$f":"E79+0.000000053","v":"00:00:56.251"},"00:00:56.330",222,3.5748000000000002,7.36,31.6,78,null,null,null,357.48]
[null,7.7450999999999999,7.76,{"$f":"E80+0.000000052","v":"00:00:56.334"},"00:00:56.413",221,3.5964,7.41,31.94,79,null,null,null,359.64]
[null,7.7650999999999994,7.78,{"$f":"E81+0.000000052","v":"00:00:56.417"},"00:00:56.496",220,3.6180000000000003,7.46,32.270000000000003,80,null,null,null,361.8]
[null,7.7850999999999999,7.8,{"$f":"E82+0.000000053","v":"00:00:56.501"},"00:00:56.579",219,3.6395999999999997,7.52,32.61,81,null,null,null,363.96]
[null,7.8050999999999995,7.81,{"$f":"E83+0.000000053","v":"00:00:56.584"},"00:00:56.662",218,3.6612,7.57,32.94,82,null,null,null,366.12]
[null,7.8150999999999993,7.83,{"$f":"E84+0.000000053","v":"00:00:56.667"},"00:00:56.746",217,3.6827999999999999,7.62,33.28,83,null,null,null,368.28]
[null,7.8350999999999997,7.85,{"$f":"E85+0.000000063","v":"00:00:56.751"},"00:00:56.829",216,3.7044000000000001,7.68,33.61,84,null,null,null,370.44]
[null,7.8550999999999993,7.87,{"$f":"E86+0.000000052","v":"00:00:56.833"},"00:00:56.912",215,3.7260000000000004,7.73,33.94,85,null,null,null,372.6]
[null,7.8750999999999998,7.89,{"$f":"E87+0.000000052","v":"00:00:56.916"},"00:00:56.995",214,3.7475999999999998,7.78,34.28,86,null,null,null,374.76]
[null,7.8950999999999993,7.91,{"$f":"E88+0.000000063","v":"00:00:57.001"},"00:00:57.078",213,3.7692000000000001,7.83,34.61,87,null,null,null,376.92]
[null,7.9150999999999998,7.93,{"$f":"E89+0.000000053","v":"00:00:57.083"},"00:00:57.162",212,3.7907999999999999,7.89,34.950000000000003,88,null,null,null,379.08]
[null,7.9350999999999994,7.95,{"$f":"E90+0.000000053","v":"00:00:57.166"},"00:00:57.245",211,3.8124000000000002,7.94,35.28,89,null,null,null,381.24]
[null,7.9550999999999998,7.97,{"$f":"E91+0.000000053","v":"00:00:57.249"},"00:00:57.328",210,3.8339999999999996,7.99,35.619999999999997,90,null,null,null,383.4]
[null,7.9750999999999994,7.99,{"$f":"E92+0.000000069","v":"00:00:57.334"},"00:00:57.411",209,3.8555999999999999,8.0399999999999991,35.950000000000003,91,null,null,null,385.56]
[null,7.9950999999999999,8.01,{"$f":"E93+0.000000052","v":"00:00:57.416"},"00:00:57.494",208,3.8772000000000002,8.1,36.28,92,null,null,null,387.72]
[null,8.0151000000000003,8.0299999999999994,{"$f":"E94+0.000000053","v":"00:00:57.499"},"00:00:57.578",207,3.8988,8.15,36.619999999999997,93,null,null,null,389.88]
[null,8.0350999999999999,8.0399999999999991,{"$f":"E95+0.000000053","v":"00:00:57.582"},"00:00:57.661",206,3.9204000000000003,8.1999999999999993,36.950000000000003,94,null,null,null,392.04]
[null,8.0450999999999997,8.06,{"$f":"E96+0.000000069","v":"00:00:57.667"},"00:00:57.744",205,3.9419999999999997,8.26,37.29,95,null,null,null,394.2]
[null,8.065100000000001,8.08,{"$f":"E97+0.000000053","v":"00:00:57.749"},"00:00:57.827",204,3.9636,8.31,37.619999999999997,96,null,null,null,396.36]
[null,8.0851000000000006,8.1,{"$f":"E98+0.000000052","v":"00:00:57.832"},"00:00:57.910",203,3.9851999999999999,8.36,37.96,97,null,null,null,398.52]
[null,8.1051000000000002,8.1199999999999992,{"$f":"E99+0.000000052","v":"00:00:57.915"},"00:00:57.994",202,4.0068000000000001,8.41,38.29,98,null,null,null,400.68]
[null,8.1250999999999998,8.14,{"$f":"E100+0.000000049","v":"00:00:57.998"},"00:00:58.077",201,4.0283999999999995,8.4700000000000006,38.630000000000003,99,null,null,null,402.84]
[null,8.1451000000000011,8.16,{"$f":"E101+0.000000053","v":"00:00:58.081"},"00:00:58.160",200,4.05,8.52,38.96,100,null,null,null,405]
[null,8.1651000000000007,8.18,{"$f":"E102+0.000000053","v":"00:00:58.165"},"00:00:58.254",199,4.0695999999999994,8.57,39.26,101,null,null,null,406.96]
[null,8.1851000000000003,8.1999999999999993,{"$f":"E103+0.000000053","v":"00:00:58.258"},"00:00:58.347",198,4.0891999999999999,8.6199999999999992,39.57,102,null,null,null,408.92]
[null,8.2050999999999998,8.2200000000000006,{"$f":"E104+0.000000052","v":"00:00:58.352"},"00:00:58.441",197,4.1087999999999996,8.66,39.869999999999997,103,null,null,null,410.88]
[null,8.2251000000000012,8.25,{"$f":"E105+0.000000069","v":"00:00:58.447"},"00:00:58.534",196,4.1284000000000001,8.7100000000000009,40.18,104,null,null,null,412.84]
[null,8.2551000000000005,8.27,{"$f":"E106+0.000000053","v":"00:00:58.539"},"00:00:58.628",195,4.1479999999999997,8.76,40.479999999999997,105,null,null,null,414.8]
[null,8.2751000000000001,8.2899999999999991,{"$f":"E107+0.000000053","v":"00:00:58.633"},"00:00:58.722",194,4.1676000000000002,8.81,40.78,106,null,null,null,416.76]
[null,8.2950999999999997,8.31,{"$f":"E108+0.000000053","v":"00:00:58.726"},"00:00:58.815",193,4.1872000000000007,8.86,41.09,107,null,null,null,418.72]
[null,8.315100000000001,8.33,{"$f":"E109+0.000000063","v":"00:00:58.821"},"00:00:58.909",192,4.2068000000000003,8.9,41.39,108,null,null,null,420.68]
[null,8.3351000000000006,8.35,{"$f":"E110+0.000000052","v":"00:00:58.913"},"00:00:59.002",191,4.2263999999999999,8.9499999999999993,41.7,109,null,null,null,422.64]
[null,8.3551000000000002,8.3800000000000008,{"$f":"E111+0.000000052","v":"00:00:59.007"},"00:00:59.096",190,4.2460000000000004,9,42,110,null,null,null,424.6]
[null,8.3851000000000013,8.4,{"$f":"E112+0.000000053","v":"00:00:59.101"},"00:00:59.190",189,4.2656000000000001,9.0500000000000007,42.3,111,null,null,null,426.56]
[null,8.4051000000000009,8.42,{"$f":"E113+0.000000053","v":"00:00:59.194"},"00:00:59.283",188,4.2851999999999997,9.1,42.61,112,null,null,null,428.52]
[null,8.4251000000000005,8.44,{"$f":"E114+0.000000053","v":"00:00:59.288"},"00:00:59.377",187,4.3048000000000002,9.14,42.91,113,null,null,null,430.48]
[null,8.4451000000000001,8.4600000000000009,{"$f":"E115+0.000000053","v":"00:00:59.381"},"00:00:59.470",186,4.3243999999999998,9.19,43.22,114,null,null,null,432.44]
[null,8.4651000000000014,8.48,{"$f":"E116+0.000000052","v":"00:00:59.475"},"00:00:59.564",185,4.3439999999999994,9.24,43.52,115,null,null,null,434.4]
[null,8.485100000000001,8.51,{"$f":"E117+0.000000052","v":"00:00:59.568"},"00:00:59.658",184,4.3635999999999999,9.2899999999999991,43.82,116,null,null,null,436.36]
[null,8.5151000000000003,8.5299999999999994,{"$f":"E118+0.000000053","v":"00:00:59.662"},"00:00:59.751",183,4.3831999999999995,9.34,44.13,117,null,null,null,438.32]
[null,8.5350999999999999,8.5500000000000007,{"$f":"E119+0.000000053","v":"00:00:59.756"},"00:00:59.845",182,4.4028,9.3800000000000008,44.43,118,null,null,null,440.28]
[null,8.5551000000000013,8.57,{"$f":"E120+0.000000053","v":"00:00:59.849"},"00:01:00",181,4.4223999999999997,9.43,44.74,119,null,null,null,442.24]
[null,8.5751000000000008,8.59,{"$f":"E121+0.000000053","v":"00:01:00.005"},"00:01:00.032",180,4.4420000000000002,9.48,45.04,120,null,null,null,444.2]
[null,8.5951000000000004,8.61,{"$f":"E122+0.000000052","v":"00:01:00.036"},"00:01:00.126",179,4.4616000000000007,9.5299999999999994,45.34,121,null,null,null,446.16]
[null,8.6151,8.64,{"$f":"E123+0.000000052","v":"00:01:00.130"},"00:01:00.219",178,4.4812000000000003,9.58,45.65,122,null,null,null,448.12]
[null,8.6451000000000011,8.66,{"$f":"E124+0.000000053","v":"00:01:00.224"},"00:01:00.313",177,4.5007999999999999,9.6199999999999992,45.95,123,null,null,null,450.08]
[null,8.6651000000000007,8.68,{"$f":"E125+0.000000053","v":"00:01:00.317"},"00:01:00.406",176,4.5204000000000004,9.67,46.26,124,null,null,null,452.04]
[null,8.6851000000000003,8.6999999999999993,{"$f":"E126+0.000000053","v":"00:01:00.411"},"00:01:00.500",175,4.54,9.7200000000000006,46.56,125,null,null,null,454]
[null,8.7050999999999998,8.7200000000000006,{"$f":"E127+0.000000053","v":"00:01:00.505"},"00:01:00.594",174,4.5595999999999997,9.77,46.86,126,null,null,null,455.96]
[null,8.7251000000000012,8.74,{"$f":"E128+0.000000069","v":"00:01:00.600"},"00:01:00.687",173,4.5792000000000002,9.82,47.17,127,null,null,null,457.92]
[null,8.7451000000000008,8.76,{"$f":"E129+0.000000052","v":"00:01:00.692"},"00:01:00.781",172,{"$f":"N130/100","v":4.5987999999999998},9.86,47.47,128,null,null,null,459.88]
[null,{"$f":"C130+0.0051","v":8.7651000000000003},8.7899999999999991,{"$f":"E130+0.000000053","v":"00:01:00.785"},"00:01:00.874",171,4.6183999999999994,9.91,47.78,129,null,null,null,461.84]
[null,8.7950999999999997,8.81,{"$f":"E131+0.000000053","v":"00:01:00.879"},"00:01:00.968",170,4.6379999999999999,9.9600000000000009,48.08,130,null,null,null,463.8]
[null,8.815100000000001,8.83,{"$f":"E132+0.000000053","v":"00:01:00.973"},"00:01:01.062",169,4.6575999999999995,10.01,48.38,131,null,null,null,465.76]
[null,8.8351000000000006,8.85,{"$f":"E133+0.000000053","v":"00:01:01.066"},"00:01:01.155",168,4.6772,10.06,48.69,132,null,null,null,467.72]
[null,8.8551000000000002,8.8699999999999992,{"$f":"E134+0.000000052","v":"00:01:01.160"},"00:01:01.249",167,4.6967999999999996,10.1,48.99,133,null,null,null,469.68]
[null,8.8750999999999998,8.89,{"$f":"E135+0.000000052","v":"00:01:01.253"},"00:01:01.342",166,4.7164000000000001,10.15,49.3,134,null,null,null,471.64]
[null,8.8951000000000011,8.92,{"$f":"E136+0.000000053","v":"00:01:01.347"},"00:01:01.436",165,4.7360000000000007,10.199999999999999,49.6,135,null,null,null,473.6]
[null,8.9251000000000005,8.94,{"$f":"E137+0.000000053","v":"00:01:01.441"},"00:01:01.530",164,4.7556000000000003,10.25,49.9,136,null,null,null,475.56]
[null,8.9451000000000001,8.9600000000000009,{"$f":"E138+0.000000053","v":"00:01:01.534"},"00:01:01.623",163,4.7751999999999999,10.3,50.21,137,null,null,null,477.52]
[null,8.9651000000000014,8.98,{"$f":"E139+0.000000053","v":"00:01:01.628"},"00:01:01.717",162,4.7948000000000004,10.34,50.51,138,null,null,null,479.48]
[null,8.985100000000001,9,{"$f":"E140+0.000000052","v":"00:01:01.721"},"00:01:01.810",161,4.8144,10.39,50.82,139,null,null,null,481.44]
[null,9.0051000000000005,9.02,{"$f":"E141+0.000000052","v":"00:01:01.815"},"00:01:01.904",160,4.8339999999999996,10.44,51.12,140,null,null,null,483.4]
[null,9.0251000000000001,9.0500000000000007,{"$f":"E142+0.000000053","v":"00:01:01.909"},"00:01:01.998",159,4.8536000000000001,10.49,51.42,141,null,null,null,485.36]
[null,9.0551000000000013,9.07,{"$f":"E143+0.000000053","v":"00:01:02.002"},"00:01:02.091",158,4.8731999999999998,10.54,51.73,142,null,null,null,487.32]
[null,9.0751000000000008,9.09,{"$f":"E144+0.000000053","v":"00:01:02.096"},"00:01:02.185",157,4.8927999999999994,10.58,52.03,143,null,null,null,489.28]
[null,9.0951000000000004,9.11,{"$f":"E145+0.000000053","v":"00:01:02.189"},"00:01:02.278",156,4.9123999999999999,10.63,52.34,144,null,null,null,491.24]
[null,9.1151,9.1300000000000008,{"$f":"E146+0.000000052","v":"00:01:02.283"},"00:01:02.372",155,4.9319999999999995,10.68,52.64,145,null,null,null,493.2]
[null,9.1351000000000013,9.15,{"$f":"E147+0.000000052","v":"00:01:02.376"},"00:01:02.466",154,4.9516,10.73,52.94,146,null,null,null,495.16]
[null,9.1551000000000009,9.18,{"$f":"E148+0.000000063","v":"00:01:02.471"},"00:01:02.559",153,4.9711999999999996,10.78,53.25,147,null,null,null,497.12]
[null,9.1851000000000003,9.1999999999999993,{"$f":"E149+0.000000053","v":"00:01:02.564"},"00:01:02.653",152,4.9908000000000001,10.82,53.55,148,null,null,null,499.08]
[null,9.2050999999999998,9.2200000000000006,{"$f":"E150+0.000000053","v":"00:01:02.657"},"00:01:02.746",151,5.0104000000000006,10.87,53.86,149,null,null,null,501.04]
[null,9.2251000000000012,9.24,{"$f":"E151+0.000000053","v":"00:01:02.751"},"00:01:02.840",150,5.03,10.92,54.16,150,null,null,null,503]
[null,9.2451000000000008,9.26,{"$f":"E152+0.000000052","v":"00:01:02.844"},"00:01:02.944",149,5.0476000000000001,10.96,54.43,151,null,null,null,504.76]
[null,9.2651000000000003,9.2899999999999991,{"$f":"E153+0.000000052","v":"00:01:02.948"},"00:01:03.048",148,5.0651999999999999,11.01,54.71,152,null,null,null,506.52]
[null,9.2950999999999997,9.31,{"$f":"E154+0.000000053","v":"00:01:03.053"},"00:01:03.152",147,5.0827999999999998,11.05,54.98,153,null,null,null,508.28]
[null,9.315100000000001,9.34,{"$f":"E155+0.000000053","v":"00:01:03.157"},"00:01:03.256",146,5.1004000000000005,11.09,55.25,154,null,null,null,510.04]
[null,9.3451000000000004,9.36,{"$f":"E156+0.000000053","v":"00:01:03.261"},"00:01:03.360",145,5.1180000000000003,11.14,55.53,155,null,null,null,511.8]
[null,9.3651,9.3800000000000008,{"$f":"E157+0.000000053","v":"00:01:03.365"},"00:01:03.464",144,5.1355999999999993,11.18,55.8,156,null,null,null,513.55999999999995]
[null,9.3851000000000013,9.41,{"$f":"E158+0.000000052","v":"00:01:03.468"},"00:01:03.568",143,5.1532000000000009,11.22,56.08,157,null,null,null,515.32000000000005]
[null,9.4151000000000007,9.43,{"$f":"E159+0.000000069","v":"00:01:03.574"},"00:01:03.672",142,5.1708000000000007,11.27,56.35,158,null,null,null,517.08000000000004]
[null,9.4351000000000003,9.4600000000000009,{"$f":"E160+0.000000053","v":"00:01:03.677"},"00:01:03.776",141,5.1884000000000006,11.31,56.62,159,null,null,null,518.84]
[null,9.4651000000000014,9.48,{"$f":"E161+0.000000053","v":"00:01:03.781"},"00:01:03.880",140,5.2060000000000004,11.35,56.9,160,null,null,null,520.6]
[null,9.485100000000001,9.5,{"$f":"E162+0.000000053","v":"00:01:03.885"},"00:01:03.984",139,5.2236000000000002,11.4,57.17,161,null,null,null,522.36]
[null,9.5051000000000005,9.5299999999999994,{"$f":"E163+0.000000053","v":"00:01:03.989"},"00:01:04.088",138,5.2412000000000001,11.44,57.44,162,null,null,null,524.12]
[null,9.5350999999999999,9.5500000000000007,{"$f":"E164+0.000000069","v":"00:01:04.094"},"00:01:04.192",137,5.2587999999999999,11.48,57.72,163,null,null,null,525.88]
[null,9.5551000000000013,9.58,{"$f":"E165+0.000000052","v":"00:01:04.196"},"00:01:04.296",136,5.2763999999999998,11.52,57.99,164,null,null,null,527.64]
[null,9.5851000000000006,9.6,{"$f":"E166+0.000000053","v":"00:01:04.301"},"00:01:04.400",135,5.2939999999999996,11.57,58.26,165,null,null,null,529.4]
[null,9.6051000000000002,9.6199999999999992,{"$f":"E167+0.000000053","v":"00:01:04.405"},"00:01:04.504",134,5.3115999999999994,11.61,58.54,166,null,null,null,531.16]
[null,9.6250999999999998,9.65,{"$f":"E168+0.000000053","v":"00:01:04.509"},"00:01:04.608",133,5.3291999999999993,11.65,58.81,167,null,null,null,532.91999999999996]
[null,9.6551000000000009,9.67,{"$f":"E169+0.000000053","v":"00:01:04.613"},"00:01:04.712",132,5.3467999999999991,11.7,59.08,168,null,null,null,534.67999999999995]
[null,9.6751000000000005,9.6999999999999993,{"$f":"E170+0.000000052","v":"00:01:04.716"},"00:01:04.816",131,5.3644000000000007,11.74,59.36,169,null,null,null,536.44000000000005]
[null,9.7050999999999998,9.7200000000000006,{"$f":"E171+0.000000062","v":"00:01:04.821"},"00:01:04.920",130,5.3820000000000006,11.78,59.63,170,null,null,null,538.20000000000005]
[null,9.7251000000000012,9.74,{"$f":"E172+0.000000053","v":"00:01:04.925"},"00:01:05.024",129,5.3996000000000004,11.83,59.91,171,null,null,null,539.96]
[null,9.7451000000000008,9.77,{"$f":"E173+0.000000053","v":"00:01:05.029"},"00:01:05.128",128,5.4172000000000002,11.87,60.18,172,null,null,null,541.72]
[null,9.7751000000000001,9.7899999999999991,{"$f":"E174+0.000000053","v":"00:01:05.133"},"00:01:05.232",127,5.4348000000000001,11.91,60.45,173,null,null,null,543.48]
[null,9.7950999999999997,9.82,{"$f":"E175+0.000000053","v":"00:01:05.237"},"00:01:05.336",126,5.4523999999999999,11.96,60.73,174,null,null,null,545.24]
[null,9.8251000000000008,9.84,{"$f":"E176+0.000000062","v":"00:01:05.341"},"00:01:05.440",125,5.47,12,61,175,null,null,null,547]
[null,9.8451000000000004,9.86,{"$f":"E177+0.000000052","v":"00:01:05.444"},"00:01:05.544",124,5.4875999999999996,12.04,61.27,176,null,null,null,548.76]
[null,9.8651,9.89,{"$f":"E178+0.000000053","v":"00:01:05.549"},"00:01:05.648",123,5.5051999999999994,12.09,61.55,177,null,null,null,550.52]
[null,9.8951000000000011,9.91,{"$f":"E179+0.000000053","v":"00:01:05.653"},"00:01:05.752",122,5.5228000000000002,12.13,61.82,178,null,null,null,552.28]
[null,9.9151000000000007,9.94,{"$f":"E180+0.000000053","v":"00:01:05.757"},"00:01:05.856",121,5.5404,12.17,62.09,179,null,null,null,554.04]
[null,9.9451000000000001,9.9600000000000009,{"$f":"E181+0.000000053","v":"00:01:05.861"},"00:01:05.960",120,5.5579999999999998,12.22,62.37,180,null,null,null,555.79999999999995]
[null,9.9651000000000014,9.98,{"$f":"E182+0.000000052","v":"00:01:05.964"},"00:01:06.064",119,5.5755999999999997,12.26,62.64,181,null,null,null,557.55999999999995]
[null,9.985100000000001,10.01,{"$f":"E183+0.000000052","v":"00:01:06.068"},"00:01:06.168",118,5.5932000000000004,12.3,62.92,182,null,null,null,559.32000000000005]
[null,10.0151,10.029999999999999,{"$f":"E184+0.000000053","v":"00:01:06.173"},"00:01:06.272",117,5.6108000000000002,12.35,63.19,183,null,null,null,561.08000000000004]
[null,10.0351,10.06,{"$f":"E185+0.000000053","v":"00:01:06.277"},"00:01:06.376",116,5.6284000000000001,12.39,63.46,184,null,null,null,562.84]
[null,10.065100000000001,10.08,{"$f":"E186+0.000000053","v":"00:01:06.381"},"00:01:06.480",115,5.6459999999999999,12.43,63.74,185,null,null,null,564.6]
[null,10.085100000000001,10.1,{"$f":"E187+0.000000053","v":"00:01:06.485"},"00:01:06.584",114,5.6635999999999997,12.48,64.010000000000005,186,null,null,null,566.36]
[null,10.1051,10.130000000000001,{"$f":"E188+0.000000052","v":"00:01:06.588"},"00:01:06.688",113,5.6812000000000005,12.52,64.28,187,null,null,null,568.12]
[null,10.135100000000001,10.15,{"$f":"E189+0.000000052","v":"00:01:06.692"},"00:01:06.792",112,5.6988000000000003,12.56,64.56,188,null,null,null,569.88]
[null,10.155100000000001,10.18,{"$f":"E190+0.000000053","v":"00:01:06.797"},"00:01:06.896",111,5.7164000000000001,12.6,64.83,189,null,null,null,571.64]
[null,10.1851,10.199999999999999,{"$f":"E191+0.000000053","v":"00:01:06.901"},"00:01:07",110,5.734,12.65,65.099999999999994,190,null,null,null,573.4]
[null,10.2051,10.220000000000001,{"$f":"E192+0.000000053","v":"00:01:07.005"},"00:01:07.104",109,5.7515999999999998,12.69,65.38,191,null,null,null,575.16]
[null,10.225100000000001,10.25,{"$f":"E193+0.000000053","v":"00:01:07.109"},"00:01:07.208",108,{"$f":"N194/100","v":5.7691999999999997},12.73,65.650000000000006,192,null,null,null,576.91999999999996]
[null,{"$f":"C194+0.0051","v":10.255100000000001},10.27,{"$f":"E194+0.000000069","v":"00:01:07.214"},"00:01:07.312",107,5.7867999999999995,12.78,65.92,193,null,null,null,578.67999999999995]
[null,10.2751,10.3,{"$f":"E195+0.000000052","v":"00:01:07.316"},"00:01:07.416",106,5.8044000000000002,12.82,66.2,194,null,null,null,580.44000000000005]
[null,10.305100000000001,10.32,{"$f":"E196+0.000000053","v":"00:01:07.421"},"00:01:07.520",105,5.8220000000000001,12.86,66.47,195,null,null,null,582.20000000000005]
[null,10.325100000000001,10.34,{"$f":"E197+0.000000053","v":"00:01:07.525"},"00:01:07.624",104,5.8396000000000008,12.91,66.75,196,null,null,null,583.96]
[null,10.3451,10.37,{"$f":"E198+0.000000053","v":"00:01:07.629"},"00:01:07.728",103,5.8572000000000006,12.95,67.02,197,null,null,null,585.72]
[null,10.3751,10.39,{"$f":"E199+0.000000053","v":"00:01:07.733"},"00:01:07.832",102,5.8748000000000005,12.99,67.290000000000006,198,null,null,null,587.48]
[null,10.395100000000001,10.42,{"$f":"E200+0.000000052","v":"00:01:07.836"},"00:01:07.936",101,5.8924000000000003,13.04,67.569999999999993,199,null,null,null,589.24]
[null,10.4251,10.44,{"$f":"E201+0.000000062","v":"00:01:07.941"},"00:01:08.040",100,5.91,13.08,67.84,200,null,null,null,591]
[null,10.4451,10.47,{"$f":"E202+0.000000053","v":"00:01:08.045"},"00:01:08.154",99,5.9258000000000006,13.12,68.08,201,null,null,null,592.58000000000004]
[null,10.475100000000001,10.49,{"$f":"E203+0.000000053","v":"00:01:08.159"},"00:01:08.269",98,5.9415999999999993,13.16,68.33,202,null,null,null,594.16]
[null,10.495100000000001,10.52,{"$f":"E204+0.000000053","v":"00:01:08.273"},"00:01:08.383",97,5.9573999999999998,13.2,68.569999999999993,203,null,null,null,595.74]
[null,10.5251,10.55,{"$f":"E205+0.000000053","v":"00:01:08.388"},"00:01:08.498",96,5.9732000000000003,13.23,68.81,204,null,null,null,597.32000000000005]
[null,10.555100000000001,10.57,{"$f":"E206+0.000000052","v":"00:01:08.502"},"00:01:08.612",95,5.9889999999999999,13.27,69.06,205,null,null,null,598.9]
[null,10.575100000000001,10.6,{"$f":"E207+0.000000052","v":"00:01:08.616"},"00:01:08.726",94,6.0048000000000004,13.31,69.3,206,null,null,null,600.48]
[null,10.6051,10.62,{"$f":"E208+0.000000053","v":"00:01:08.731"},"00:01:08.841",93,6.0205999999999991,13.35,69.540000000000006,207,null,null,null,602.05999999999995]
[null,10.6251,10.65,{"$f":"E209+0.000000069","v":"00:01:08.847"},"00:01:08.955",92,6.0363999999999995,13.39,69.790000000000006,208,null,null,null,603.64]
[null,10.655100000000001,10.68,{"$f":"E210+0.000000063","v":"00:01:08.961"},"00:01:09.070",91,6.0522,13.43,70.03,209,null,null,null,605.22]
[null,10.6851,10.7,{"$f":"E211+0.000000053","v":"00:01:09.074"},"00:01:09.184",90,6.0679999999999996,13.46,70.27,210,null,null,null,606.79999999999995]
[null,10.7051,10.73,{"$f":"E212+0.000000052","v":"00:01:09.188"},"00:01:09.298",89,6.0838000000000001,13.5,70.52,211,null,null,null,608.38]
[null,10.735100000000001,10.76,{"$f":"E213+0.000000052","v":"00:01:09.303"},"00:01:09.413",88,6.0996000000000006,13.54,70.760000000000005,212,null,null,null,609.96]
[null,10.7651,10.78,{"$f":"E214+0.000000053","v":"00:01:09.417"},"00:01:09.527",87,6.1153999999999993,13.58,71,213,null,null,null,611.54]
[null,10.7851,10.81,{"$f":"E215+0.000000053","v":"00:01:09.532"},"00:01:09.642",86,6.1311999999999998,13.62,71.239999999999995,214,null,null,null,613.12]
[null,10.815100000000001,10.84,{"$f":"E216+0.000000053","v":"00:01:09.646"},"00:01:09.756",85,6.1470000000000002,13.66,71.489999999999995,215,null,null,null,614.70000000000005]
[null,10.8451,10.86,{"$f":"E217+0.000000053","v":"00:01:09.761"},"00:01:09.870",84,6.1627999999999998,13.69,71.73,216,null,null,null,616.28]
[null,10.8651,10.89,{"$f":"E218+0.000000052","v":"00:01:09.875"},"00:01:09.985",83,6.1786000000000003,13.73,71.97,217,null,null,null,617.86]
[null,10.895100000000001,10.92,{"$f":"E219+0.000000052","v":"00:01:09.989"},"00:01:10.099",82,6.1944000000000008,13.77,72.22,218,null,null,null,619.44000000000005]
[null,10.9251,10.94,{"$f":"E220+0.000000053","v":"00:01:10.104"},"00:01:10.214",81,6.2101999999999995,13.81,72.459999999999994,219,null,null,null,621.02]
[null,10.9451,10.97,{"$f":"E221+0.000000049","v":"00:01:10.218"},"00:01:10.328",80,6.226,13.85,72.7,220,null,null,null,622.6]
[null,10.975100000000001,10.99,{"$f":"E222+0.000000053","v":"00:01:10.333"},"00:01:10.442",79,6.2417999999999996,13.89,72.95,221,null,null,null,624.17999999999995]
[null,10.995100000000001,11.02,{"$f":"E223+0.000000053","v":"00:01:10.447"},"00:01:10.557",78,6.2576000000000001,13.92,73.19,222,null,null,null,625.76]
[null,11.0251,11.05,{"$f":"E224+0.000000052","v":"00:01:10.561"},"00:01:10.671",77,6.2734000000000005,13.96,73.430000000000007,223,null,null,null,627.34]
[null,11.055100000000001,11.07,{"$f":"E225+0.000000052","v":"00:01:10.676"},"00:01:10.786",76,6.2891999999999992,14,73.680000000000007,224,null,null,null,628.91999999999996]
[null,11.075100000000001,11.1,{"$f":"E226+0.000000063","v":"00:01:10.791"},"00:01:10.900",75,6.3049999999999997,14.04,73.92,225,null,null,null,630.5]
[null,11.1051,11.13,{"$f":"E227+0.000000053","v":"00:01:10.905"},"00:01:11.014",74,6.3208000000000002,14.08,74.16,226,null,null,null,632.08000000000004]
[null,11.135100000000001,11.15,{"$f":"E228+0.000000053","v":"00:01:11.019"},"00:01:11.129",73,6.3365999999999998,14.12,74.41,227,null,null,null,633.66]
[null,11.155100000000001,11.18,{"$f":"E229+0.000000053","v":"00:01:11.133"},"00:01:11.243",72,6.3524000000000003,14.16,74.650000000000006,228,null,null,null,635.24]
[null,11.1851,11.21,{"$f":"E230+0.000000052","v":"00:01:11.248"},"00:01:11.358",71,6.3682000000000007,14.19,74.89,229,null,null,null,636.82000000000005]
[null,11.215100000000001,11.23,{"$f":"E231+0.000000052","v":"00:01:11.362"},"00:01:11.472",70,6.3839999999999995,14.23,75.14,230,null,null,null,638.4]
[null,11.235100000000001,11.26,{"$f":"E232+0.000000053","v":"00:01:11.477"},"00:01:11.586",69,6.3997999999999999,14.27,75.38,231,null,null,null,639.98]
[null,11.2651,11.28,{"$f":"E233+0.000000053","v":"00:01:11.591"},"00:01:11.701",68,6.4155999999999995,14.31,75.62,232,null,null,null,641.55999999999995]
[null,11.2851,11.31,{"$f":"E234+0.000000069","v":"00:01:11.707"},"00:01:11.815",67,6.4314,14.35,75.87,233,null,null,null,643.14]
[null,11.315100000000001,11.34,{"$f":"E235+0.000000063","v":"00:01:11.821"},"00:01:11.930",66,6.4472000000000005,14.39,76.11,234,null,null,null,644.72]
[null,11.3451,11.36,{"$f":"E236+0.000000052","v":"00:01:11.934"},"00:01:12.044",65,6.4629999999999992,14.42,76.349999999999994,235,null,null,null,646.29999999999995]
[null,11.3651,11.39,{"$f":"E237+0.000000052","v":"00:01:12.048"},"00:01:12.158",64,6.4787999999999997,14.46,76.599999999999994,236,null,null,null,647.88]
[null,11.395100000000001,11.42,{"$f":"E238+0.000000053","v":"00:01:12.163"},"00:01:12.273",63,6.4946000000000002,14.5,76.84,237,null,null,null,649.46]
[null,11.4251,11.44,{"$f":"E239+0.000000053","v":"00:01:12.277"},"00:01:12.387",62,6.5103999999999997,14.54,77.08,238,null,null,null,651.04]
[null,11.4451,11.47,{"$f":"E240+0.000000053","v":"00:01:12.392"},"00:01:12.502",61,6.5262000000000002,14.58,77.319999999999993,239,null,null,null,652.62]
[null,11.475100000000001,11.5,{"$f":"E241+0.000000053","v":"00:01:12.506"},"00:01:12.616",60,6.5420000000000007,14.62,77.569999999999993,240,null,null,null,654.20000000000005]
[null,11.505100000000001,11.52,{"$f":"E242+0.000000062","v":"00:01:12.621"},"00:01:12.730",59,6.5577999999999994,14.65,77.81,241,null,null,null,655.78]
[null,11.5251,11.55,{"$f":"E243+0.000000052","v":"00:01:12.735"},"00:01:12.845",58,6.5735999999999999,14.69,78.05,242,null,null,null,657.36]
[null,11.555100000000001,11.58,{"$f":"E244+0.000000053","v":"00:01:12.849"},"00:01:12.959",57,6.5894000000000004,14.73,78.3,243,null,null,null,658.94]
[null,11.585100000000001,11.6,{"$f":"E245+0.000000053","v":"00:01:12.964"},"00:01:13.074",56,6.6052,14.77,78.540000000000006,244,null,null,null,660.52]
[null,11.6051,11.63,{"$f":"E246+0.000000049","v":"00:01:13.078"},"00:01:13.188",55,6.6210000000000004,14.81,78.78,245,null,null,null,662.1]
[null,11.635100000000001,11.65,{"$f":"E247+0.000000053","v":"00:01:13.193"},"00:01:13.302",54,6.6367999999999991,14.85,79.03,246,null,null,null,663.68]
[null,11.655100000000001,11.68,{"$f":"E248+0.000000052","v":"00:01:13.307"},"00:01:13.417",53,6.6525999999999996,14.88,79.27,247,null,null,null,665.26]
[null,11.6851,11.71,{"$f":"E249+0.000000052","v":"00:01:13.421"},"00:01:13.531",52,6.6684000000000001,14.92,79.510000000000005,248,null,null,null,666.84]
[null,11.715100000000001,11.73,{"$f":"E250+0.000000053","v":"00:01:13.536"},"00:01:13.646",51,6.6841999999999997,14.96,79.760000000000005,249,null,null,null,668.42]
[null,11.735100000000001,11.76,{"$f":"E251+0.000000063","v":"00:01:13.651"},"00:01:13.760",50,6.7,15,80,250,null,null,null,670]
[null,11.7651,11.79,{"$f":"E252+0.000000053","v":"00:01:13.765"},"00:01:13.885",49,6.3433999999999848,{"$f":"H254-(H$52-H$2)/50","v":14.177599999999963},{"$f":"I254-(I$52-I$2)/50","v":74.12479999999988},251,null,null,null,{"$f":"N254-(N$52-N$2)/50","v":634.33999999999844}]
[null,11.7951,11.82,{"$f":"E253+0.000000053","v":"00:01:13.889"},"00:01:14.010",48,6.3667999999999845,14.235199999999963,74.489599999999882,252,null,null,null,636.67999999999847]
[null,11.825100000000001,11.85,{"$f":"E254+0.000000052","v":"00:01:14.014"},"00:01:14.134",47,6.390199999999985,14.292799999999964,74.854399999999885,253,null,null,null,639.0199999999985]
[null,11.8551,11.88,{"$f":"E255+0.000000052","v":"00:01:14.139"},"00:01:14.259",46,6.4135999999999855,14.350399999999965,75.219199999999887,254,null,null,null,641.35999999999854]
[null,11.885100000000001,11.9,{"$f":"E256+0.000000053","v":"00:01:14.264"},"00:01:14.384",45,6.4369999999999861,14.407999999999966,75.583999999999889,255,null,null,null,643.69999999999857]
[null,11.905100000000001,11.93,{"$f":"E257+0.000000053","v":"00:01:14.389"},"00:01:14.509",44,{"$f":"N258/100","v":6.4603999999999857},14.465599999999966,75.948799999999892,256,null,null,null,646.0399999999986]
[null,{"$f":"C258+0.0051","v":11.9351},11.96,{"$f":"E258+0.000000053","v":"00:01:14.513"},"00:01:14.634",43,6.4837999999999862,14.523199999999967,76.313599999999894,257,null,null,null,648.37999999999863]
[null,11.965100000000001,11.99,{"$f":"E259+0.000000049","v":"00:01:14.638"},"00:01:14.758",42,6.5071999999999868,14.580799999999968,76.678399999999897,258,null,null,null,650.71999999999866]
[null,11.995100000000001,12.02,{"$f":"E260+0.000000052","v":"00:01:14.763"},"00:01:14.883",41,6.5305999999999873,14.638399999999969,77.043199999999899,259,null,null,null,653.05999999999869]
[null,12.0251,12.05,{"$f":"E261+0.000000052","v":"00:01:14.888"},"00:01:15.008",40,6.5539999999999869,14.69599999999997,77.407999999999902,260,null,null,null,655.39999999999873]
[null,12.055100000000001,12.08,{"$f":"E262+0.000000053","v":"00:01:15.013"},"00:01:15.133",39,6.5773999999999875,14.75359999999997,77.772799999999904,261,null,null,null,657.73999999999876]
[null,12.085100000000001,12.11,{"$f":"E263+0.000000053","v":"00:01:15.137"},"00:01:15.258",38,6.600799999999988,14.811199999999971,78.137599999999907,262,null,null,null,660.07999999999879]
[null,12.1151,12.13,{"$f":"E264+0.000000053","v":"00:01:15.262"},"00:01:15.382",37,6.6241999999999885,14.868799999999972,78.502399999999909,263,null,null,null,662.41999999999882]
[null,12.135100000000001,12.16,{"$f":"E265+0.000000053","v":"00:01:15.387"},"00:01:15.507",36,6.6475999999999882,14.926399999999973,78.867199999999912,264,null,null,null,664.75999999999885]
[null,12.165100000000001,12.19,{"$f":"E266+0.000000052","v":"00:01:15.512"},"00:01:15.632",35,6.6709999999999887,14.983999999999973,79.231999999999914,265,null,null,null,667.09999999999889]
[null,12.1951,12.22,{"$f":"E267+0.000000052","v":"00:01:15.636"},"00:01:15.757",34,6.6943999999999892,15.041599999999974,79.596799999999917,266,null,null,null,669.43999999999892]
[null,12.225100000000001,12.25,{"$f":"E268+0.000000053","v":"00:01:15.761"},"00:01:15.882",33,6.7177999999999898,15.099199999999975,79.961599999999919,267,null,null,null,671.77999999999895]
[null,12.255100000000001,12.28,{"$f":"E269+0.000000053","v":"00:01:15.886"},"00:01:16.006",32,6.7411999999999894,15.156799999999976,80.326399999999921,268,null,null,null,674.11999999999898]
[null,12.2851,12.31,{"$f":"E270+0.000000053","v":"00:01:16.011"},"00:01:16.131",31,6.76459999999999,15.214399999999976,80.691199999999924,269,null,null,null,676.45999999999901]
[null,12.315100000000001,12.34,{"$f":"E271+0.000000053","v":"00:01:16.136"},"00:01:16.256",30,6.7879999999999905,15.271999999999977,81.055999999999926,270,null,null,null,678.79999999999905]
[null,12.3451,12.36,{"$f":"E272+0.000000062","v":"00:01:16.261"},"00:01:16.381",29,6.811399999999991,15.329599999999978,81.420799999999929,271,null,null,null,681.13999999999908]
[null,12.3651,12.39,{"$f":"E273+0.000000069","v":"00:01:16.387"},"00:01:16.506",28,6.8347999999999907,15.387199999999979,81.785599999999931,272,null,null,null,683.47999999999911]
[null,12.395100000000001,12.42,{"$f":"E274+0.000000063","v":"00:01:16.511"},"00:01:16.630",27,6.8581999999999912,15.444799999999979,82.150399999999934,273,null,null,null,685.81999999999914]
[null,12.4251,12.45,{"$f":"E275+0.000000053","v":"00:01:16.635"},"00:01:16.755",26,6.8815999999999917,15.50239999999998,82.515199999999936,274,null,null,null,688.15999999999917]
[null,12.4551,12.48,{"$f":"E276+0.000000063","v":"00:01:16.761"},"00:01:16.880",25,6.9049999999999923,15.559999999999981,82.879999999999939,275,null,null,null,690.4999999999992]
[null,12.485100000000001,12.51,{"$f":"E277+0.000000053","v":"00:01:16.885"},"00:01:17.005",24,6.9283999999999928,15.617599999999982,83.244799999999941,276,null,null,null,692.83999999999924]
[null,12.5151,12.54,{"$f":"E278+0.000000052","v":"00:01:17.009"},"00:01:17.130",23,6.9517999999999924,15.675199999999982,83.609599999999944,277,null,null,null,695.17999999999927]
[null,12.5451,12.57,{"$f":"E279+0.000000052","v":"00:01:17.134"},"00:01:17.254",22,6.975199999999993,15.732799999999983,83.974399999999946,278,null,null,null,697.5199999999993]
[null,12.575100000000001,12.6,{"$f":"E280+0.000000053","v":"00:01:17.259"},"00:01:17.379",21,6.9985999999999935,15.790399999999984,84.339199999999948,279,null,null,null,699.85999999999933]
[null,12.6051,12.62,{"$f":"E281+0.000000053","v":"00:01:17.384"},"00:01:17.504",20,7.021999999999994,15.847999999999985,84.703999999999951,280,null,null,null,702.19999999999936]
[null,12.6251,12.65,{"$f":"E282+0.000000053","v":"00:01:17.509"},"00:01:17.629",19,7.0453999999999937,15.905599999999986,85.068799999999953,281,null,null,null,704.5399999999994]
[null,12.655100000000001,12.68,{"$f":"E283+0.000000053","v":"00:01:17.633"},"00:01:17.754",18,7.0687999999999942,15.963199999999986,85.433599999999956,282,null,null,null,706.87999999999943]
[null,12.6851,12.71,{"$f":"E284+0.000000049","v":"00:01:17.758"},"00:01:17.878",17,7.0921999999999947,{"$f":"H286-(H$52-H$2)/50","v":16.020799999999987},{"$f":"I286-(I$52-I$2)/50","v":85.798399999999958},283,null,null,null,{"$f":"N286-(N$52-N$2)/50","v":709.21999999999946}]
[null,12.715100000000001,12.74,{"$f":"E285+0.000000061","v":"00:01:17.884"},"00:01:18.003",16,7.1155999999999953,16.078399999999988,86.163199999999961,284,null,null,null,711.55999999999949]
[null,12.745100000000001,12.77,{"$f":"E286+0.000000053","v":"00:01:18.008"},"00:01:18.128",15,7.1389999999999949,16.135999999999989,86.527999999999963,285,null,null,null,713.89999999999952]
[null,12.7751,12.8,{"$f":"E287+0.000000053","v":"00:01:18.133"},"00:01:18.253",14,7.1623999999999954,16.193599999999989,86.892799999999966,286,null,null,null,716.23999999999955]
[null,12.805100000000001,12.83,{"$f":"E288+0.000000053","v":"00:01:18.257"},"00:01:18.378",13,7.185799999999996,16.25119999999999,87.257599999999968,287,null,null,null,718.57999999999959]
[null,12.835100000000001,12.85,{"$f":"E289+0.000000053","v":"00:01:18.382"},"00:01:18.502",12,7.2091999999999965,16.308799999999991,87.622399999999971,288,null,null,null,720.91999999999962]
[null,12.8551,12.88,{"$f":"E290+0.000000052","v":"00:01:18.507"},"00:01:18.627",11,7.2325999999999961,16.366399999999992,87.987199999999973,289,null,null,null,723.25999999999965]
[null,12.885100000000001,12.91,{"$f":"E291+0.000000052","v":"00:01:18.632"},"00:01:18.752",10,7.2559999999999967,16.423999999999992,88.351999999999975,290,null,null,null,725.59999999999968]
[null,12.915100000000001,12.94,{"$f":"E292+0.000000053","v":"00:01:18.757"},"00:01:18.877",9,7.2793999999999972,16.481599999999993,88.716799999999978,291,null,null,null,727.93999999999971]
[null,12.9451,12.97,{"$f":"E293+0.000000053","v":"00:01:18.881"},"00:01:19.002",8,7.3027999999999977,16.539199999999994,89.08159999999998,292,null,null,null,730.27999999999975]
[null,12.975100000000001,13,{"$f":"E294+0.000000053","v":"00:01:19.006"},"00:01:19.126",7,7.3261999999999974,16.596799999999995,89.446399999999983,293,null,null,null,732.61999999999978]
[null,13.005100000000001,13.03,{"$f":"E295+0.000000053","v":"00:01:19.131"},"00:01:19.251",6,7.3495999999999979,16.654399999999995,89.811199999999985,294,null,null,null,734.95999999999981]
[null,13.0351,13.06,{"$f":"E296+0.000000052","v":"00:01:19.256"},"00:01:19.376",5,7.3729999999999984,16.711999999999996,90.175999999999988,295,null,null,null,737.29999999999984]
[null,13.065100000000001,13.08,{"$f":"E297+0.000000062","v":"00:01:19.381"},"00:01:19.501",4,7.396399999999999,16.769599999999997,90.54079999999999,296,null,null,null,739.63999999999987]
[null,13.085100000000001,13.11,{"$f":"E298+0.000000059","v":"00:01:19.506"},"00:01:19.626",3,7.4197999999999986,16.827199999999998,90.905599999999993,297,null,null,null,741.9799999999999]
[null,13.1151,13.14,{"$f":"E299+0.000000063","v":"00:01:19.631"},"00:01:19.750",2,7.4431999999999992,16.884799999999998,91.270399999999995,298,null,null,null,744.31999999999994]
[null,13.145100000000001,13.17,{"$f":"E300+0.000000053","v":"00:01:19.755"},"00:01:19.875",1,7.4665999999999997,16.942399999999999,91.635199999999998,299,null,null,null,746.66]
[null,13.1751,13.2,{"$f":"E301+0.000000063","v":"00:01:19.881"},"00:01:20",0,7.49,17,92,300,null,null,null,749]

{"sheet":"Be","index":1,"n_rows":244,"n_cols":12,"rows_kept":244,"cut":false,"hidden":false,"merged":[[27,2,27,3],[27,4,27,5],[27,6,27,7],[26,0,26,9],[26,10,27,11],[33,10,33,11],[28,10,31,11],[36,0,36,9],[36,10,37,11],[37,2,37,3],[37,4,37,5],[37,6,37,7],[48,10,51,11],[53,10,53,11],[56,0,56,9],[56,10,57,11],[57,2,57,3],[57,4,57,5],[57,6,57,7],[38,10,41,11],[43,10,43,11],[46,0,46,9],[46,10,47,11],[47,2,47,3],[47,4,47,5],[47,6,47,7],[68,10,71,11],[73,10,73,11],[76,0,76,9],[76,10,77,11],[77,2,77,3],[77,4,77,5],[77,6,77,7],[58,10,61,11],[63,10,63,11],[66,0,66,9],[66,10,67,11],[67,2,67,3],[67,4,67,5],[67,6,67,7],[88,10,91,11],[93,10,93,11],[96,0,96,9],[96,10,97,11],[97,2,97,3],[97,4,97,5],[97,6,97,7],[78,10,81,11],[83,10,83,11],[86,0,86,9],[86,10,87,11],[87,2,87,3],[87,4,87,5],[87,6,87,7],[108,10,111,11],[113,10,113,11],[116,0,116,9],[116,10,117,11],[117,2,117,3],[117,4,117,5],[117,6,117,7],[98,10,101,11],[103,10,103,11],[106,0,106,9],[106,10,107,11],[107,2,107,3],[107,4,107,5],[107,6,107,7],[128,10,131,11],[133,10,133,11],[136,0,136,9],[136,10,137,11],[137,2,137,3],[137,4,137,5],[137,6,137,7],[118,10,121,11],[123,10,123,11],[126,0,126,9],[126,10,127,11],[127,2,127,3],[127,4,127,5],[127,6,127,7],[148,10,151,11],[153,10,153,11],[156,0,156,9],[156,10,157,11],[157,2,157,3],[157,4,157,5],[157,6,157,7],[138,10,141,11],[143,10,143,11],[146,0,146,9],[146,10,147,11],[147,2,147,3],[147,4,147,5],[147,6,147,7],[176,0,176,9],[176,10,177,11],[177,2,177,3],[177,4,177,5],[177,6,177,7],[158,10,161,11],[163,10,163,11],[166,0,166,9],[166,10,167,11],[167,2,167,3],[167,4,167,5],[167,6,167,7],[196,0,196,9],[196,10,197,11],[197,2,197,3],[197,4,197,5],[197,6,197,7],[178,10,181,11],[183,10,183,11],[186,0,186,9],[186,10,187,11],[187,2,187,3],[187,4,187,5],[187,6,187,7],[216,0,216,9],[216,10,217,11],[217,2,217,3],[217,4,217,5],[217,6,217,7],[198,10,201,11],[203,10,203,11],[206,0,206,9],[206,10,207,11],[207,2,207,3],[207,4,207,5],[207,6,207,7],[236,0,236,9],[236,10,237,11],[237,2,237,3],[237,4,237,5],[237,6,237,7],[218,10,221,11],[223,10,223,11],[226,0,226,9],[226,10,227,11],[227,2,227,3],[227,4,227,5],[227,6,227,7],[238,10,241,11],[243,10,243,11],[3,10,3,11],[4,10,4,11],[5,10,5,11],[6,10,6,11],[7,10,7,11],[8,10,8,11],[9,10,9,11],[10,10,10,11],[11,10,11,11],[12,10,12,11],[13,10,13,11],[14,10,14,11],[15,10,15,11],[16,10,16,11],[228,10,231,11],[233,10,233,11],[208,10,211,11],[213,10,213,11],[188,10,191,11],[193,10,193,11],[168,10,171,11],[173,10,173,11],[22,10,22,11],[23,10,23,11],[24,10,24,11],[2,10,2,11],[0,0,0,11],[17,10,17,11],[18,10,18,11],[19,10,19,11],[20,10,20,11],[21,10,21,11],[2,2,2,3],[2,4,2,5],[2,6,2,7]]}
["II. korcsoport FIÚ Összetett verseny "]
[]
["Név","Sz.év","60 m",null,"Távolugrás",null,"Klabdahajítás",null,"Összpont","helyezés","Iskola"]
["Vörösmarty Milán",2006,9.35,{"$f":"IF(C4<6.19,0,VLOOKUP(C4,rfut,5,TRUE))","v":145},3.95,{"$f":"IF(E4<1.79,0,VLOOKUP(E4,távol,4,TRUE))","v":95},37.090000000000003,{"$f":"IF(G4<4,0,VLOOKUP(G4,kisl,2,TRUE))","v":94},{"$f":"SUM(D4,F4,H4)","v":334},{"$f":"RANK(I4,Egyéni!$J$3:$J$136,0)","v":5},"Móri Radnóti Miklós Általános Iskola Mór"]
["Kecskés Zsombor",2006,9.36,145,3.66,81,34.520000000000003,86,{"$f":"SUM(D5,F5,H5)","v":312},{"$f":"RANK(I5,Egyéni!$J$3:$J$136,0)","v":14},"Váli Vajda János Általános Iskola Vál"]
["Simotics Máté",2006,9.0299999999999994,159,4.5,122,42.77,112,393,{"$f":"RANK(I6,Egyéni!$J$3:$J$136,0)","v":1},"Batthyány Fülöp Gimn. ás Ált. Isk. Enying"]
[null,null,null,0,null,0,null,0,0,{"$f":"RANK(I7,Egyéni!$J$3:$J$136,0)","v":45}]
[null,null,null,0,null,0,null,0,0,{"$f":"RANK(I8,Egyéni!$J$3:$J$136,0)","v":45}]
[null,null,null,0,null,0,null,0,0,{"$f":"RANK(I9,Egyéni!$J$3:$J$136,0)","v":45}]
[null,null,null,0,null,0,null,0,0,{"$f":"RANK(I10,Egyéni!$J$3:$J$136,0)","v":45}]
[null,null,null,0,null,0,null,0,0,{"$f":"RANK(I11,Egyéni!$J$3:$J$136,0)","v":45}]
[null,null,null,0,null,0,null,0,0,{"$f":"RANK(I12,Egyéni!$J$3:$J$136,0)","v":45}]
[null,null,null,0,null,0,null,0,0,{"$f":"RANK(I13,Egyéni!$J$3:$J$136,0)","v":45}]
[null,null,null,0,null,0,null,0,0,{"$f":"RANK(I14,Egyéni!$J$3:$J$136,0)","v":45}]
[null,null,null,0,null,0,null,0,0,{"$f":"RANK(I15,Egyéni!$J$3:$J$136,0)","v":45}]
[null,null,null,0,null,0,null,0,0,{"$f":"RANK(I16,Egyéni!$J$3:$J$136,0)","v":45}]
[null,null,null,0,null,0,null,0,0,{"$f":"RANK(I17,Egyéni!$J$3:$J$136,0)","v":45}]
[null,null,null,0,null,0,null,0,0,{"$f":"RANK(I18,Egyéni!$J$3:$J$136,0)","v":45}]
[null,null,null,0,null,0,null,0,0,{"$f":"RANK(I19,Egyéni!$J$3:$J$136,0)","v":45}]
[null,null,null,0,null,0,null,0,0,{"$f":"RANK(I20,Egyéni!$J$3:$J$136,0)","v":45}]
[null,null,null,0,null,0,null,0,0,{"$f":"RANK(I21,Egyéni!$J$3:$J$136,0)","v":45}]
[null,null,null,0,null,0,null,0,0,{"$f":"RANK(I22,Egyéni!$J$3:$J$136,0)","v":45}]
[null,null,null,0,null,0,null,0,0,{"$f":"RANK(I23,Egyéni!$J$3:$J$136,0)","v":45}]
[null,null,null,0,null,0,null,0,0,{"$f":"RANK(I24,Egyéni!$J$3:$J$136,0)","v":45}]
[null,null,null,0,null,0,null,0,0,{"$f":"RANK(I25,Egyéni!$J$3:$J$136,0)","v":45}]
[]
["Alcsútdobozi József Nádor Általános Iskola Alcsútdoboz",null,null,null,null,null,null,null,null,null,{"$f":"RANK(K29,Csapat!$C$3:P30,0)","v":7}]
["Név","Sz.év","60 m",null,"Távolugrás",null,"Klabdahajítás",null,"Összpont","Helyezés"]
["Ángyás Ferenc János",2006,10.4,{"$f":"IF(C29<6.19,0,VLOOKUP(C29,rfut,5,TRUE))","v":101},3.22,{"$f":"IF(E29<1.79,0,VLOOKUP(E29,távol,4,TRUE))","v":61},31.56,{"$f":"IF(G29<4,0,VLOOKUP(G29,kisl,2,TRUE))","v":77},{"$f":"SUM(D29,F29,H29)","v":239},{"$f":"RANK(I29,Egyéni!$J$3:$J$136,0)","v":35},{"$f":"SUM(I29:I34)-MIN(I29:I34)+K34","v":1346}]
["Antal Márton",2006,9.3800000000000008,144,3.52,75,29.73,72,291,{"$f":"RANK(I30,Egyéni!$J$3:$J$136,0)","v":20}]
["Bíró Ádám Levente",2006,10.26,107,3.11,56,24.56,56,219,{"$f":"RANK(I31,Egyéni!$J$3:$J$136,0)","v":40}]
[" Budai Kristóf Tamás",2006,9.89,123,3.6,79,24.78,57,259,{"$f":"RANK(I32,Egyéni!$J$3:$J$136,0)","v":30}]
["Keindl Gergő",2006,10.33,104,2.8,42,26.46,62,208,{"$f":"RANK(I33,Egyéni!$J$3:$J$136,0)","v":43},"4×100","00:01:06.410"]
["Marton István",2006,10.5,97,3.34,67,25.48,59,223,{"$f":"RANK(I34,Egyéni!$J$3:$J$136,0)","v":38},{"$f":"IF(L33<fiú!$D$2,0,VLOOKUP(L33,hfut,3,TRUE))","v":115}]
[]
[]
["Szent Erzsébet Római Katolikus Általános Iskola Mór ",null,null,null,null,null,null,null,null,null,{"$f":"RANK(K39,Csapat!$C$3:P40,0)","v":5}]
["Név","Sz.év","60 m",null,"Távolugrás",null,"Klabdahajítás",null,"Összpont","Helyezés"]
["Gellért Zsombor",2007,9.8800000000000008,{"$f":"IF(C39<6.19,0,VLOOKUP(C39,rfut,5,TRUE))","v":123},3.19,{"$f":"IF(E39<1.79,0,VLOOKUP(E39,távol,4,TRUE))","v":60},27.2,{"$f":"IF(G39<4,0,VLOOKUP(G39,kisl,2,TRUE))","v":64},{"$f":"SUM(D39,F39,H39)","v":247},{"$f":"RANK(I39,Egyéni!$J$3:$J$136,0)","v":33},{"$f":"SUM(I39:I44)-MIN(I39:I44)+K44","v":1517}]
["Jánni Ákos",2006,9.86,124,3.67,82,37.17,94,300,{"$f":"RANK(I40,Egyéni!$J$3:$J$136,0)","v":17}]
["Lenchés Tamás",2006,9.7100000000000009,130,3.26,63,32.03,79,272,{"$f":"RANK(I41,Egyéni!$J$3:$J$136,0)","v":25}]
["Szemeti Márton",2006,9.9600000000000009,120,3.21,61,34.31,86,267,{"$f":"RANK(I42,Egyéni!$J$3:$J$136,0)","v":26}]
["Zsédely Levente",2007,9.42,142,3.88,92,28.87,69,303,{"$f":"RANK(I43,Egyéni!$J$3:$J$136,0)","v":16},"4×100","00:01:05.050"]
["Krausz Dávid",2006,10.58,94,2.77,41,31.07,76,211,{"$f":"RANK(I44,Egyéni!$J$3:$J$136,0)","v":41},{"$f":"IF(L43<fiú!$D$2,0,VLOOKUP(L43,hfut,3,TRUE))","v":128}]
[]
[]
["Kossuth Lajos Általános Iskola Nagyvenyim",null,null,null,null,null,null,null,null,null,{"$f":"RANK(K49,Csapat!$C$3:P50,0)","v":3}]
["Név","Sz.év","60 m",null,"Távolugrás",null,"Klabdahajítás",null,"Összpont","Helyezés"]
["Balogh Mátyás",2007,10.97,{"$f":"IF(C49<6.19,0,VLOOKUP(C49,rfut,5,TRUE))","v":80},3.15,{"$f":"IF(E49<1.79,0,VLOOKUP(E49,távol,4,TRUE))","v":58},29.99,{"$f":"IF(G49<4,0,VLOOKUP(G49,kisl,2,TRUE))","v":73},{"$f":"SUM(D49,F49,H49)","v":211},{"$f":"RANK(I49,Egyéni!$J$3:$J$136,0)","v":41},{"$f":"SUM(I49:I54)-MIN(I49:I54)+K54","v":1680}]
["Hekele Dániel",2006,9.02,160,4.5,122,31.23,76,358,{"$f":"RANK(I50,Egyéni!$J$3:$J$136,0)","v":3}]
["Kolompár Lajos",2006,9.4700000000000006,140,3.92,93,32.44,80,313,{"$f":"RANK(I51,Egyéni!$J$3:$J$136,0)","v":13}]
["Kolompár Milán Rómeó",2006,9.83,125,3.43,71,39.26,101,297,{"$f":"RANK(I52,Egyéni!$J$3:$J$136,0)","v":18}]
["Mess Ferenc Gergő",2007,9.7200000000000006,130,3.45,72,26.16,61,263,{"$f":"RANK(I53,Egyéni!$J$3:$J$136,0)","v":27},"4×100","00:01:04.610"]
["Wéber Róbert",2007,8.84,168,3.89,92,24.4,56,316,{"$f":"RANK(I54,Egyéni!$J$3:$J$136,0)","v":11},{"$f":"IF(L53<fiú!$D$2,0,VLOOKUP(L53,hfut,3,TRUE))","v":133}]
[]
[]
["Hétvezér Általános Iskola Székesfehérvár",null,null,null,null,null,null,null,null,null,{"$f":"RANK(K59,Csapat!$C$3:P60,0)","v":2}]
["Név","Sz.év","60 m",null,"Távolugrás",null,"Klabdahajítás",null,"Összpont","Helyezés"]
["Keserü Balázs",2006,9.89,{"$f":"IF(C59<6.19,0,VLOOKUP(C59,rfut,5,TRUE))","v":123},3.63,{"$f":"IF(E59<1.79,0,VLOOKUP(E59,távol,4,TRUE))","v":80},32.72,{"$f":"IF(G59<4,0,VLOOKUP(G59,kisl,2,TRUE))","v":81},{"$f":"SUM(D59,F59,H59)","v":284},{"$f":"RANK(I59,Egyéni!$J$3:$J$136,0)","v":21},{"$f":"SUM(I59:I64)-MIN(I59:I64)+K64","v":1697}]
["Kovács Kristóf",2006,9.9600000000000009,120,3.63,80,33.229999999999997,82,282,{"$f":"RANK(I60,Egyéni!$J$3:$J$136,0)","v":23}]
["Kovács Zsombor",2006,9.66,132,3.72,84,27.59,66,282,{"$f":"RANK(I61,Egyéni!$J$3:$J$136,0)","v":23}]
["Králik András",2006,9.24,150,3.99,97,33.43,83,330,{"$f":"RANK(I62,Egyéni!$J$3:$J$136,0)","v":6}]
["Sógorka Dávid",2006,9.44,141,4.03,99,33.44,83,323,{"$f":"RANK(I63,Egyéni!$J$3:$J$136,0)","v":9},"4×100","00:01:02.250"]
["Zákány Zénó",2006,9.34,146,3.96,95,32.75,81,322,{"$f":"RANK(I64,Egyéni!$J$3:$J$136,0)","v":10},{"$f":"IF(L63<fiú!$D$2,0,VLOOKUP(L63,hfut,3,TRUE))","v":156}]
[]
[]
["Tóvárosi Általános Iskola Székesfehérvár",null,null,null,null,null,null,null,null,null,{"$f":"RANK(K69,Csapat!$C$3:P70,0)","v":1}]
["Név","Sz.év","60 m",null,"Távolugrás",null,"Klabdahajítás",null,"Összpont","Helyezés"]
["Drexler Lóránt József",2006,8.82,{"$f":"IF(C69<6.19,0,VLOOKUP(C69,rfut,5,TRUE))","v":169},3.77,{"$f":"IF(E69<1.79,0,VLOOKUP(E69,távol,4,TRUE))","v":87},36.21,{"$f":"IF(G69<4,0,VLOOKUP(G69,kisl,2,TRUE))","v":91},{"$f":"SUM(D69,F69,H69)","v":347},{"$f":"RANK(I69,Egyéni!$J$3:$J$136,0)","v":4},{"$f":"SUM(I69:I74)-MIN(I69:I74)+K74","v":1807}]
["Grósz Gergő",2006,8.8699999999999992,167,4.25,110,35.42,89,366,{"$f":"RANK(I70,Egyéni!$J$3:$J$136,0)","v":2}]
["Kerék Patrik",2006,9.42,142,3.97,96,36.090000000000003,91,329,{"$f":"RANK(I71,Egyéni!$J$3:$J$136,0)","v":7}]
["Varga Tamás",2006,9.86,124,3.83,89,22.41,50,263,{"$f":"RANK(I72,Egyéni!$J$3:$J$136,0)","v":27}]
["Mohai Bálint",2006,9.23,150,3.84,90,28.21,67,307,{"$f":"RANK(I73,Egyéni!$J$3:$J$136,0)","v":15},"4×100","00:00:58.620"]
["Németh Péter",2006,10.26,107,3.39,69,34.01,85,261,{"$f":"RANK(I74,Egyéni!$J$3:$J$136,0)","v":29},{"$f":"IF(L73<fiú!$D$2,0,VLOOKUP(L73,hfut,3,TRUE))","v":195}]
[]
[]
["Vörösmarty Mihály Általános Iskola Székesfehérvár",null,null,null,null,null,null,null,null,null,{"$f":"RANK(K79,Csapat!$C$3:P80,0)","v":6}]
["Név","Sz.év","60 m",null,"Távolugrás",null,"Klabdahajítás",null,"Összpont","Helyezés"]
["Dávid Ármin",2006,9.41,{"$f":"IF(C79<6.19,0,VLOOKUP(C79,rfut,5,TRUE))","v":143},4.13,{"$f":"IF(E79<1.79,0,VLOOKUP(E79,távol,4,TRUE))","v":104},28.56,{"$f":"IF(G79<4,0,VLOOKUP(G79,kisl,2,TRUE))","v":68},{"$f":"SUM(D79,F79,H79)","v":315},{"$f":"RANK(I79,Egyéni!$J$3:$J$136,0)","v":12},{"$f":"SUM(I79:I84)-MIN(I79:I84)+K84","v":1415}]
["Fábián Barnabás",2006,10.3,106,3.28,64,24.92,58,228,{"$f":"RANK(I80,Egyéni!$J$3:$J$136,0)","v":37}]
["Szalay Levente",2006,9.98,119,3.26,63,31.09,76,258,{"$f":"RANK(I81,Egyéni!$J$3:$J$136,0)","v":31}]
["Mészáros Noel",2006,10.01,118,3.48,73,24.13,55,246,{"$f":"RANK(I82,Egyéni!$J$3:$J$136,0)","v":34}]
["Sági Bálint",2007,10.199999999999999,110,3.51,75,17.62,37,222,{"$f":"RANK(I83,Egyéni!$J$3:$J$136,0)","v":39},"4×100","00:01:03.160"]
[null,null,null,0,null,0,null,0,0,{"$f":"RANK(I84,Egyéni!$J$3:$J$136,0)","v":45},{"$f":"IF(L83<fiú!$D$2,0,VLOOKUP(L83,hfut,3,TRUE))","v":146}]
[]
[]
["Gorsium Általános Iskola és Csősz Általános Iskola Tagintézmény Tác",null,null,null,null,null,null,null,null,null,{"$f":"RANK(K89,Csapat!$C$3:P90,0)","v":4}]
["Név","Sz.év","60 m",null,"Távolugrás",null,"Klabdahajítás",null,"Összpont","Helyezés"]
["Csehák Botond",2006,10.02,{"$f":"IF(C89<6.19,0,VLOOKUP(C89,rfut,5,TRUE))","v":117},3.8,{"$f":"IF(E89<1.79,0,VLOOKUP(E89,távol,4,TRUE))","v":88},35.29,{"$f":"IF(G89<4,0,VLOOKUP(G89,kisl,2,TRUE))","v":89},{"$f":"SUM(D89,F89,H89)","v":294},{"$f":"RANK(I89,Egyéni!$J$3:$J$136,0)","v":19},{"$f":"SUM(I89:I94)-MIN(I89:I94)+K94","v":1536}]
["Dallos Mirkó Benedek",2007,10.27,107,3.71,84,25.67,60,251,{"$f":"RANK(I90,Egyéni!$J$3:$J$136,0)","v":32}]
["Gellén Zsolt Patrik",2006,9.8800000000000008,123,3.82,89,29.86,72,284,{"$f":"RANK(I91,Egyéni!$J$3:$J$136,0)","v":21}]
["Szauter Bercel",2007,10.43,100,3.35,67,26.46,62,229,{"$f":"RANK(I92,Egyéni!$J$3:$J$136,0)","v":36}]
["Szimander Gergő",2007,11.36,65,3.21,61,23.33,53,179,{"$f":"RANK(I93,Egyéni!$J$3:$J$136,0)","v":44},"4×100","00:01:02.880"]
["Trenka Ádám",2006,9.32,146,4.1399999999999997,104,31.97,79,329,{"$f":"RANK(I94,Egyéni!$J$3:$J$136,0)","v":7},{"$f":"IF(L93<fiú!$D$2,0,VLOOKUP(L93,hfut,3,TRUE))","v":149}]
[]
[]
[null,null,null,null,null,null,null,null,null,null,{"$f":"RANK(K99,Csapat!$C$3:P100,0)","v":8}]
["Név","Sz.év","60 m",null,"Távolugrás",null,"Klabdahajítás",null,"Összpont","Helyezés"]
[null,null,null,{"$f":"IF(C99<6.19,0,VLOOKUP(C99,rfut,5,TRUE))","v":0},null,{"$f":"IF(E99<1.79,0,VLOOKUP(E99,távol,4,TRUE))","v":0},null,{"$f":"IF(G99<4,0,VLOOKUP(G99,kisl,2,TRUE))","v":0},{"$f":"SUM(D99,F99,H99)","v":0},{"$f":"RANK(I99,Egyéni!$J$3:$J$136,0)","v":45},{"$f":"SUM(I99:I104)-MIN(I99:I104)+K104","v":0}]
[null,null,null,0,null,0,null,0,0,{"$f":"RANK(I100,Egyéni!$J$3:$J$136,0)","v":45}]
[null,null,null,0,null,0,null,0,0,{"$f":"RANK(I101,Egyéni!$J$3:$J$136,0)","v":45}]
[null,null,null,0,null,0,null,0,0,{"$f":"RANK(I102,Egyéni!$J$3:$J$136,0)","v":45}]
[null,null,null,0,null,0,null,0,0,{"$f":"RANK(I103,Egyéni!$J$3:$J$136,0)","v":45},"4×100"]
[null,null,null,0,null,0,null,0,0,{"$f":"RANK(I104,Egyéni!$J$3:$J$136,0)","v":45},{"$f":"IF(L103<fiú!$D$2,0,VLOOKUP(L103,hfut,3,TRUE))","v":0}]
[]
[]
[null,null,null,null,null,null,null,null,null,null,{"$f":"RANK(K109,Csapat!$C$3:P110,0)","v":8}]
["Név","Sz.év","60 m",null,"Távolugrás",null,"Klabdahajítás",null,"Összpont","Helyezés"]
[null,null,null,{"$f":"IF(C109<6.19,0,VLOOKUP(C109,rfut,5,TRUE))","v":0},null,{"$f":"IF(E109<1.79,0,VLOOKUP(E109,távol,4,TRUE))","v":0},null,{"$f":"IF(G109<4,0,VLOOKUP(G109,kisl,2,TRUE))","v":0},{"$f":"SUM(D109,F109,H109)","v":0},{"$f":"RANK(I109,Egyéni!$J$3:$J$136,0)","v":45},{"$f":"SUM(I109:I114)-MIN(I109:I114)+K114","v":0}]
[null,null,null,0,null,0,null,0,0,{"$f":"RANK(I110,Egyéni!$J$3:$J$136,0)","v":45}]
[null,null,null,0,null,0,null,0,0,{"$f":"RANK(I111,Egyéni!$J$3:$J$136,0)","v":45}]
[null,null,null,0,null,0,null,0,0,{"$f":"RANK(I112,Egyéni!$J$3:$J$136,0)","v":45}]
[null,null,null,0,null,0,null,0,0,{"$f":"RANK(I113,Egyéni!$J$3:$J$136,0)","v":45},"4×100"]
[null,null,null,0,null,0,null,0,0,{"$f":"RANK(I114,Egyéni!$J$3:$J$136,0)","v":45},{"$f":"IF(L113<fiú!$D$2,0,VLOOKUP(L113,hfut,3,TRUE))","v":0}]
[]
[]
[null,null,null,null,null,null,null,null,null,null,{"$f":"RANK(K119,Csapat!$C$3:P120,0)","v":8}]
["Név","Sz.év","60 m",null,"Távolugrás",null,"Klabdahajítás",null,"Összpont","Helyezés"]
[null,null,null,{"$f":"IF(C119<6.19,0,VLOOKUP(C119,rfut,5,TRUE))","v":0},null,{"$f":"IF(E119<1.79,0,VLOOKUP(E119,távol,4,TRUE))","v":0},null,{"$f":"IF(G119<4,0,VLOOKUP(G119,kisl,2,TRUE))","v":0},{"$f":"SUM(D119,F119,H119)","v":0},{"$f":"RANK(I119,Egyéni!$J$3:$J$136,0)","v":45},{"$f":"SUM(I119:I124)-MIN(I119:I124)+K124","v":0}]
[null,null,null,0,null,0,null,0,0,{"$f":"RANK(I120,Egyéni!$J$3:$J$136,0)","v":45}]
[null,null,null,0,null,0,null,0,0,{"$f":"RANK(I121,Egyéni!$J$3:$J$136,0)","v":45}]
[null,null,null,0,null,0,null,0,0,{"$f":"RANK(I122,Egyéni!$J$3:$J$136,0)","v":45}]
[null,null,null,0,null,0,null,0,0,{"$f":"RANK(I123,Egyéni!$J$3:$J$136,0)","v":45},"4×100"]
[null,null,null,0,null,0,null,0,0,{"$f":"RANK(I124,Egyéni!$J$3:$J$136,0)","v":45},{"$f":"IF(L123<fiú!$D$2,0,VLOOKUP(L123,hfut,3,TRUE))","v":0}]
[]
[]
[null,null,null,null,null,null,null,null,null,null,{"$f":"RANK(K129,Csapat!$C$3:P130,0)","v":8}]
["Név","Sz.év","60 m",null,"Távolugrás",null,"Klabdahajítás",null,"Összpont","Helyezés"]
[null,null,null,{"$f":"IF(C129<6.19,0,VLOOKUP(C129,rfut,5,TRUE))","v":0},null,{"$f":"IF(E129<1.79,0,VLOOKUP(E129,távol,4,TRUE))","v":0},null,{"$f":"IF(G129<4,0,VLOOKUP(G129,kisl,2,TRUE))","v":0},{"$f":"SUM(D129,F129,H129)","v":0},{"$f":"RANK(I129,Egyéni!$J$3:$J$136,0)","v":45},{"$f":"SUM(I129:I134)-MIN(I129:I134)+K134","v":0}]
[null,null,null,0,null,0,null,0,0,{"$f":"RANK(I130,Egyéni!$J$3:$J$136,0)","v":45}]
[null,null,null,0,null,0,null,0,0,{"$f":"RANK(I131,Egyéni!$J$3:$J$136,0)","v":45}]
[null,null,null,0,null,0,null,0,0,{"$f":"RANK(I132,Egyéni!$J$3:$J$136,0)","v":45}]
[null,null,null,0,null,0,null,0,0,{"$f":"RANK(I133,Egyéni!$J$3:$J$136,0)","v":45},"4×100"]
[null,null,null,0,null,0,null,0,0,{"$f":"RANK(I134,Egyéni!$J$3:$J$136,0)","v":45},{"$f":"IF(L133<fiú!$D$2,0,VLOOKUP(L133,hfut,3,TRUE))","v":0}]
[]
[]
[null,null,null,null,null,null,null,null,null,null,{"$f":"RANK(K139,Csapat!$C$3:P140,0)","v":8}]
["Név","Sz.év","60 m",null,"Távolugrás",null,"Klabdahajítás",null,"Összpont","Helyezés"]
[null,null,null,{"$f":"IF(C139<6.19,0,VLOOKUP(C139,rfut,5,TRUE))","v":0},null,{"$f":"IF(E139<1.79,0,VLOOKUP(E139,távol,4,TRUE))","v":0},null,{"$f":"IF(G139<4,0,VLOOKUP(G139,kisl,2,TRUE))","v":0},{"$f":"SUM(D139,F139,H139)","v":0},{"$f":"RANK(I139,Egyéni!$J$3:$J$136,0)","v":45},{"$f":"SUM(I139:I144)-MIN(I139:I144)+K144","v":0}]
[null,null,null,0,null,0,null,0,0,{"$f":"RANK(I140,Egyéni!$J$3:$J$136,0)","v":45}]
[null,null,null,0,null,0,null,0,0,{"$f":"RANK(I141,Egyéni!$J$3:$J$136,0)","v":45}]
[null,null,null,0,null,0,null,0,0,{"$f":"RANK(I142,Egyéni!$J$3:$J$136,0)","v":45}]
[null,null,null,0,null,0,null,0,0,{"$f":"RANK(I143,Egyéni!$J$3:$J$136,0)","v":45},"4×100"]
[null,null,null,0,null,0,null,0,0,{"$f":"RANK(I144,Egyéni!$J$3:$J$136,0)","v":45},{"$f":"IF(L143<fiú!$D$2,0,VLOOKUP(L143,hfut,3,TRUE))","v":0}]
[]
[]
[null,null,null,null,null,null,null,null,null,null,{"$f":"RANK(K149,Csapat!$C$3:P150,0)","v":8}]
["Név","Sz.év","60 m",null,"Távolugrás",null,"Klabdahajítás",null,"Összpont","Helyezés"]
[null,null,null,{"$f":"IF(C149<6.19,0,VLOOKUP(C149,rfut,5,TRUE))","v":0},null,{"$f":"IF(E149<1.79,0,VLOOKUP(E149,távol,4,TRUE))","v":0},null,{"$f":"IF(G149<4,0,VLOOKUP(G149,kisl,2,TRUE))","v":0},{"$f":"SUM(D149,F149,H149)","v":0},{"$f":"RANK(I149,Egyéni!$J$3:$J$136,0)","v":45},{"$f":"SUM(I149:I154)-MIN(I149:I154)+K154","v":0}]
[null,null,null,0,null,0,null,0,0,{"$f":"RANK(I150,Egyéni!$J$3:$J$136,0)","v":45}]
[null,null,null,0,null,0,null,0,0,{"$f":"RANK(I151,Egyéni!$J$3:$J$136,0)","v":45}]
[null,null,null,0,null,0,null,0,0,{"$f":"RANK(I152,Egyéni!$J$3:$J$136,0)","v":45}]
[null,null,null,0,null,0,null,0,0,{"$f":"RANK(I153,Egyéni!$J$3:$J$136,0)","v":45},"4×100"]
[null,null,null,0,null,0,null,0,0,{"$f":"RANK(I154,Egyéni!$J$3:$J$136,0)","v":45},{"$f":"IF(L153<fiú!$D$2,0,VLOOKUP(L153,hfut,3,TRUE))","v":0}]
[]
[]
[null,null,null,null,null,null,null,null,null,null,{"$f":"RANK(K159,Csapat!$C$3:P160,0)","v":8}]
["Név","Sz.év","60 m",null,"Távolugrás",null,"Klabdahajítás",null,"Összpont","Helyezés"]
[null,null,null,{"$f":"IF(C159<6.19,0,VLOOKUP(C159,rfut,5,TRUE))","v":0},null,{"$f":"IF(E159<1.79,0,VLOOKUP(E159,távol,4,TRUE))","v":0},null,{"$f":"IF(G159<4,0,VLOOKUP(G159,kisl,2,TRUE))","v":0},{"$f":"SUM(D159,F159,H159)","v":0},{"$f":"RANK(I159,Egyéni!$J$3:$J$136,0)","v":45},{"$f":"SUM(I159:I164)-MIN(I159:I164)+K164","v":0}]
[null,null,null,0,null,0,null,0,0,{"$f":"RANK(I160,Egyéni!$J$3:$J$136,0)","v":45}]
[null,null,null,0,null,0,null,0,0,{"$f":"RANK(I161,Egyéni!$J$3:$J$136,0)","v":45}]
[null,null,null,0,null,0,null,0,0,{"$f":"RANK(I162,Egyéni!$J$3:$J$136,0)","v":45}]
[null,null,null,0,null,0,null,0,0,{"$f":"RANK(I163,Egyéni!$J$3:$J$136,0)","v":45},"4×100"]
[null,null,null,0,null,0,null,0,0,{"$f":"RANK(I164,Egyéni!$J$3:$J$136,0)","v":45},{"$f":"IF(L163<fiú!$D$2,0,VLOOKUP(L163,hfut,3,TRUE))","v":0}]
[]
[]
[null,null,null,null,null,null,null,null,null,null,{"$f":"RANK(K169,Csapat!$C$3:P170,0)","v":8}]
["Név","Sz.év","60 m",null,"Távolugrás",null,"Klabdahajítás",null,"Összpont","Helyezés"]
[null,null,null,{"$f":"IF(C169<6.19,0,VLOOKUP(C169,rfut,5,TRUE))","v":0},null,{"$f":"IF(E169<1.79,0,VLOOKUP(E169,távol,4,TRUE))","v":0},null,{"$f":"IF(G169<4,0,VLOOKUP(G169,kisl,2,TRUE))","v":0},{"$f":"SUM(D169,F169,H169)","v":0},{"$f":"RANK(I169,Egyéni!$J$3:$J$136,0)","v":45},{"$f":"SUM(I169:I174)-MIN(I169:I174)+K174","v":0}]
[null,null,null,0,null,0,null,0,0,{"$f":"RANK(I170,Egyéni!$J$3:$J$136,0)","v":45}]
[null,null,null,0,null,0,null,0,0,{"$f":"RANK(I171,Egyéni!$J$3:$J$136,0)","v":45}]
[null,null,null,0,null,0,null,0,0,{"$f":"RANK(I172,Egyéni!$J$3:$J$136,0)","v":45}]
[null,null,null,0,null,0,null,0,0,{"$f":"RANK(I173,Egyéni!$J$3:$J$136,0)","v":45},"4×100"]
[null,null,null,0,null,0,null,0,0,{"$f":"RANK(I174,Egyéni!$J$3:$J$136,0)","v":45},{"$f":"IF(L173<fiú!$D$2,0,VLOOKUP(L173,hfut,3,TRUE))","v":0}]
[]
[]
[null,null,null,null,null,null,null,null,null,null,{"$f":"RANK(K179,Csapat!$C$3:P180,0)","v":8}]
["Név","Sz.év","60 m",null,"Távolugrás",null,"Klabdahajítás",null,"Összpont","Helyezés"]
[null,null,null,{"$f":"IF(C179<6.19,0,VLOOKUP(C179,rfut,5,TRUE))","v":0},null,{"$f":"IF(E179<1.79,0,VLOOKUP(E179,távol,4,TRUE))","v":0},null,{"$f":"IF(G179<4,0,VLOOKUP(G179,kisl,2,TRUE))","v":0},{"$f":"SUM(D179,F179,H179)","v":0},{"$f":"RANK(I179,Egyéni!$J$3:$J$136,0)","v":45},{"$f":"SUM(I179:I184)-MIN(I179:I184)+K184","v":0}]
[null,null,null,0,null,0,null,0,0,{"$f":"RANK(I180,Egyéni!$J$3:$J$136,0)","v":45}]
[null,null,null,0,null,0,null,0,0,{"$f":"RANK(I181,Egyéni!$J$3:$J$136,0)","v":45}]
[null,null,null,0,null,0,null,0,0,{"$f":"RANK(I182,Egyéni!$J$3:$J$136,0)","v":45}]
[null,null,null,0,null,0,null,0,0,{"$f":"RANK(I183,Egyéni!$J$3:$J$136,0)","v":45},"4×100"]
[null,null,null,0,null,0,null,0,0,{"$f":"RANK(I184,Egyéni!$J$3:$J$136,0)","v":45},{"$f":"IF(L183<fiú!$D$2,0,VLOOKUP(L183,hfut,3,TRUE))","v":0}]
[]
[]
[null,null,null,null,null,null,null,null,null,null,{"$f":"RANK(K189,Csapat!$C$3:P190,0)","v":8}]
["Név","Sz.év","60 m",null,"Távolugrás",null,"Klabdahajítás",null,"Összpont","Helyezés"]
[null,null,null,{"$f":"IF(C189<6.19,0,VLOOKUP(C189,rfut,5,TRUE))","v":0},null,{"$f":"IF(E189<1.79,0,VLOOKUP(E189,távol,4,TRUE))","v":0},null,{"$f":"IF(G189<4,0,VLOOKUP(G189,kisl,2,TRUE))","v":0},{"$f":"SUM(D189,F189,H189)","v":0},{"$f":"RANK(I189,Egyéni!$J$3:$J$136,0)","v":45},{"$f":"SUM(I189:I194)-MIN(I189:I194)+K194","v":0}]
[null,null,null,0,null,0,null,0,0,{"$f":"RANK(I190,Egyéni!$J$3:$J$136,0)","v":45}]
[null,null,null,0,null,0,null,0,0,{"$f":"RANK(I191,Egyéni!$J$3:$J$136,0)","v":45}]
[null,null,null,0,null,0,null,0,0,{"$f":"RANK(I192,Egyéni!$J$3:$J$136,0)","v":45}]
[null,null,null,0,null,0,null,0,0,{"$f":"RANK(I193,Egyéni!$J$3:$J$136,0)","v":45},"4×100"]
[null,null,null,0,null,0,null,0,0,{"$f":"RANK(I194,Egyéni!$J$3:$J$136,0)","v":45},{"$f":"IF(L193<fiú!$D$2,0,VLOOKUP(L193,hfut,3,TRUE))","v":0}]
[]
[]
[null,null,null,null,null,null,null,null,null,null,{"$f":"RANK(K199,Csapat!$C$3:P200,0)","v":8}]
["Név","Sz.év","60 m",null,"Távolugrás",null,"Klabdahajítás",null,"Összpont","Helyezés"]
[null,null,null,{"$f":"IF(C199<6.19,0,VLOOKUP(C199,rfut,5,TRUE))","v":0},null,{"$f":"IF(E199<1.79,0,VLOOKUP(E199,távol,4,TRUE))","v":0},null,{"$f":"IF(G199<4,0,VLOOKUP(G199,kisl,2,TRUE))","v":0},{"$f":"SUM(D199,F199,H199)","v":0},{"$f":"RANK(I199,Egyéni!$J$3:$J$136,0)","v":45},{"$f":"SUM(I199:I204)-MIN(I199:I204)+K204","v":0}]
[null,null,null,0,null,0,null,0,0,{"$f":"RANK(I200,Egyéni!$J$3:$J$136,0)","v":45}]
[null,null,null,0,null,0,null,0,0,{"$f":"RANK(I201,Egyéni!$J$3:$J$136,0)","v":45}]
[null,null,null,0,null,0,null,0,0,{"$f":"RANK(I202,Egyéni!$J$3:$J$136,0)","v":45}]
[null,null,null,0,null,0,null,0,0,{"$f":"RANK(I203,Egyéni!$J$3:$J$136,0)","v":45},"4×100"]
[null,null,null,0,null,0,null,0,0,{"$f":"RANK(I204,Egyéni!$J$3:$J$136,0)","v":45},{"$f":"IF(L203<fiú!$D$2,0,VLOOKUP(L203,hfut,3,TRUE))","v":0}]
[]
[]
[null,null,null,null,null,null,null,null,null,null,{"$f":"RANK(K209,Csapat!$C$3:P210,0)","v":8}]
["Név","Sz.év","60 m",null,"Távolugrás",null,"Klabdahajítás",null,"Összpont","Helyezés"]
[null,null,null,{"$f":"IF(C209<6.19,0,VLOOKUP(C209,rfut,5,TRUE))","v":0},null,{"$f":"IF(E209<1.79,0,VLOOKUP(E209,távol,4,TRUE))","v":0},null,{"$f":"IF(G209<4,0,VLOOKUP(G209,kisl,2,TRUE))","v":0},{"$f":"SUM(D209,F209,H209)","v":0},{"$f":"RANK(I209,Egyéni!$J$3:$J$136,0)","v":45},{"$f":"SUM(I209:I214)-MIN(I209:I214)+K214","v":0}]
[null,null,null,0,null,0,null,0,0,{"$f":"RANK(I210,Egyéni!$J$3:$J$136,0)","v":45}]
[null,null,null,0,null,0,null,0,0,{"$f":"RANK(I211,Egyéni!$J$3:$J$136,0)","v":45}]
[null,null,null,0,null,0,null,0,0,{"$f":"RANK(I212,Egyéni!$J$3:$J$136,0)","v":45}]
[null,null,null,0,null,0,null,0,0,{"$f":"RANK(I213,Egyéni!$J$3:$J$136,0)","v":45},"4×100"]
[null,null,null,0,null,0,null,0,0,{"$f":"RANK(I214,Egyéni!$J$3:$J$136,0)","v":45},{"$f":"IF(L213<fiú!$D$2,0,VLOOKUP(L213,hfut,3,TRUE))","v":0}]
[]
[]
[null,null,null,null,null,null,null,null,null,null,{"$f":"RANK(K219,Csapat!$C$3:P220,0)","v":8}]
["Név","Sz.év","60 m",null,"Távolugrás",null,"Klabdahajítás",null,"Összpont","Helyezés"]
[null,null,null,{"$f":"IF(C219<6.19,0,VLOOKUP(C219,rfut,5,TRUE))","v":0},null,{"$f":"IF(E219<1.79,0,VLOOKUP(E219,távol,4,TRUE))","v":0},null,{"$f":"IF(G219<4,0,VLOOKUP(G219,kisl,2,TRUE))","v":0},{"$f":"SUM(D219,F219,H219)","v":0},{"$f":"RANK(I219,Egyéni!$J$3:$J$136,0)","v":45},{"$f":"SUM(I219:I224)-MIN(I219:I224)+K224","v":0}]
[null,null,null,0,null,0,null,0,0,{"$f":"RANK(I220,Egyéni!$J$3:$J$136,0)","v":45}]
[null,null,null,0,null,0,null,0,0,{"$f":"RANK(I221,Egyéni!$J$3:$J$136,0)","v":45}]
[null,null,null,0,null,0,null,0,0,{"$f":"RANK(I222,Egyéni!$J$3:$J$136,0)","v":45}]
[null,null,null,0,null,0,null,0,0,{"$f":"RANK(I223,Egyéni!$J$3:$J$136,0)","v":45},"4×100"]
[null,null,null,0,null,0,null,0,0,{"$f":"RANK(I224,Egyéni!$J$3:$J$136,0)","v":45},{"$f":"IF(L223<fiú!$D$2,0,VLOOKUP(L223,hfut,3,TRUE))","v":0}]
[]
[]
[null,null,null,null,null,null,null,null,null,null,{"$f":"RANK(K229,Csapat!$C$3:P230,0)","v":8}]
["Név","Sz.év","60 m",null,"Távolugrás",null,"Klabdahajítás",null,"Összpont","Helyezés"]
[null,null,null,{"$f":"IF(C229<6.19,0,VLOOKUP(C229,rfut,5,TRUE))","v":0},null,{"$f":"IF(E229<1.79,0,VLOOKUP(E229,távol,4,TRUE))","v":0},null,{"$f":"IF(G229<4,0,VLOOKUP(G229,kisl,2,TRUE))","v":0},{"$f":"SUM(D229,F229,H229)","v":0},{"$f":"RANK(I229,Egyéni!$J$3:$J$136,0)","v":45},{"$f":"SUM(I229:I234)-MIN(I229:I234)+K234","v":0}]
[null,null,null,0,null,0,null,0,0,{"$f":"RANK(I230,Egyéni!$J$3:$J$136,0)","v":45}]
[null,null,null,0,null,0,null,0,0,{"$f":"RANK(I231,Egyéni!$J$3:$J$136,0)","v":45}]
[null,null,null,0,null,0,null,0,0,{"$f":"RANK(I232,Egyéni!$J$3:$J$136,0)","v":45}]
[null,null,null,0,null,0,null,0,0,{"$f":"RANK(I233,Egyéni!$J$3:$J$136,0)","v":45},"4×100"]
[null,null,null,0,null,0,null,0,0,{"$f":"RANK(I234,Egyéni!$J$3:$J$136,0)","v":45},{"$f":"IF(L233<fiú!$D$2,0,VLOOKUP(L233,hfut,3,TRUE))","v":0}]
[]
[]
[null,null,null,null,null,null,null,null,null,null,{"$f":"RANK(K239,Csapat!$C$3:P240,0)","v":8}]
["Név","Sz.év","60 m",null,"Távolugrás",null,"Klabdahajítás",null,"Összpont","Helyezés"]
[null,null,null,{"$f":"IF(C239<6.19,0,VLOOKUP(C239,rfut,5,TRUE))","v":0},null,{"$f":"IF(E239<1.79,0,VLOOKUP(E239,távol,4,TRUE))","v":0},null,{"$f":"IF(G239<4,0,VLOOKUP(G239,kisl,2,TRUE))","v":0},{"$f":"SUM(D239,F239,H239)","v":0},{"$f":"RANK(I239,Egyéni!$J$3:$J$136,0)","v":45},{"$f":"SUM(I239:I244)-MIN(I239:I244)+K244","v":0}]
[null,null,null,0,null,0,null,0,0,{"$f":"RANK(I240,Egyéni!$J$3:$J$136,0)","v":45}]
[null,null,null,0,null,0,null,0,0,{"$f":"RANK(I241,Egyéni!$J$3:$J$136,0)","v":45}]
[null,null,null,0,null,0,null,0,0,{"$f":"RANK(I242,Egyéni!$J$3:$J$136,0)","v":45}]
[null,null,null,0,null,0,null,0,0,{"$f":"RANK(I243,Egyéni!$J$3:$J$136,0)","v":45},"4×100"]
[null,null,null,0,null,0,null,0,0,{"$f":"RANK(I244,Egyéni!$J$3:$J$136,0)","v":45},{"$f":"IF(L243<fiú!$D$2,0,VLOOKUP(L243,hfut,3,TRUE))","v":0}]

{"sheet":"Egyéni","index":2,"n_rows":136,"n_cols":12,"rows_kept":136,"cut":false,"hidden":false,"merged":[[0,0,0,11]]}
["II. korcsoport FIÚ EGYÉNI végeredmény (Rendezés Ctrl + a )"]
["Ssz","Név","Szév","60 m","p","T","p","Kisl","p","Összp",null,"Iskola"]
["1.",{"$f":"Be!A6","v":"Simotics Máté"},{"$f":"Be!B6","v":2006},{"$f":"Be!C6","v":9.0299999999999994},{"$f":"Be!D6","v":159},{"$f":"Be!E6","v":4.5},{"$f":"Be!F6","v":122},{"$f":"Be!G6","v":42.77},{"$f":"Be!H6","v":112},{"$f":"Be!I6","v":393},null,{"$f":"Be!K6","v":"Batthyány Fülöp Gimn. ás Ált. Isk. Enying"}]
["2.",{"$f":"Be!A70","v":"Grósz Gergő"},{"$f":"Be!B70","v":2006},{"$f":"Be!C70","v":8.8699999999999992},{"$f":"Be!D70","v":167},{"$f":"Be!E70","v":4.25},{"$f":"Be!F70","v":110},{"$f":"Be!G70","v":35.42},{"$f":"Be!H70","v":89},{"$f":"Be!I70","v":366},null,{"$f":"Be!A67","v":"Tóvárosi Általános Iskola Székesfehérvár"}]
["3.",{"$f":"Be!A50","v":"Hekele Dániel"},{"$f":"Be!B50","v":2006},{"$f":"Be!C50","v":9.02},{"$f":"Be!D50","v":160},{"$f":"Be!E50","v":4.5},{"$f":"Be!F50","v":122},{"$f":"Be!G50","v":31.23},{"$f":"Be!H50","v":76},{"$f":"Be!I50","v":358},null,{"$f":"Be!A47","v":"Kossuth Lajos Általános Iskola Nagyvenyim"}]
["4.",{"$f":"Be!A69","v":"Drexler Lóránt József"},{"$f":"Be!B69","v":2006},{"$f":"Be!C69","v":8.82},{"$f":"Be!D69","v":169},{"$f":"Be!E69","v":3.77},{"$f":"Be!F69","v":87},{"$f":"Be!G69","v":36.21},{"$f":"Be!H69","v":91},{"$f":"Be!I69","v":347},null,{"$f":"Be!A67","v":"Tóvárosi Általános Iskola Székesfehérvár"}]
["5.",{"$f":"Be!A62","v":"Králik András"},{"$f":"Be!B62","v":2006},{"$f":"Be!C62","v":9.24},{"$f":"Be!D62","v":150},{"$f":"Be!E62","v":3.99},{"$f":"Be!F62","v":97},{"$f":"Be!G62","v":33.43},{"$f":"Be!H62","v":83},{"$f":"Be!I62","v":330},null,{"$f":"Be!A57","v":"Hétvezér Általános Iskola Székesfehérvár"}]
["6.","Vörösmarty Milán",2006,9.35,145,3.95,95,37.090000000000003,94,334,null,"Móri Radnóti Miklós Általános Iskola Mór"]
["7.",{"$f":"Be!A71","v":"Kerék Patrik"},{"$f":"Be!B71","v":2006},{"$f":"Be!C71","v":9.42},{"$f":"Be!D71","v":142},{"$f":"Be!E71","v":3.97},{"$f":"Be!F71","v":96},{"$f":"Be!G71","v":36.090000000000003},{"$f":"Be!H71","v":91},{"$f":"Be!I71","v":329},null,{"$f":"Be!A67","v":"Tóvárosi Általános Iskola Székesfehérvár"}]
["8.",{"$f":"Be!A94","v":"Trenka Ádám"},{"$f":"Be!B94","v":2006},{"$f":"Be!C94","v":9.32},{"$f":"Be!D94","v":146},{"$f":"Be!E94","v":4.1399999999999997},{"$f":"Be!F94","v":104},{"$f":"Be!G94","v":31.97},{"$f":"Be!H94","v":79},{"$f":"Be!I94","v":329},null,{"$f":"Be!A87","v":"Gorsium Általános Iskola és Csősz Általános Iskola Tagintézmény Tác"}]
["9.",{"$f":"Be!A63","v":"Sógorka Dávid"},{"$f":"Be!B63","v":2006},{"$f":"Be!C63","v":9.44},{"$f":"Be!D63","v":141},{"$f":"Be!E63","v":4.03},{"$f":"Be!F63","v":99},{"$f":"Be!G63","v":33.44},{"$f":"Be!H63","v":83},{"$f":"Be!I63","v":323},null,{"$f":"Be!A57","v":"Hétvezér Általános Iskola Székesfehérvár"}]
["10.",{"$f":"Be!A64","v":"Zákány Zénó"},{"$f":"Be!B64","v":2006},{"$f":"Be!C64","v":9.34},{"$f":"Be!D64","v":146},{"$f":"Be!E64","v":3.96},{"$f":"Be!F64","v":95},{"$f":"Be!G64","v":32.75},{"$f":"Be!H64","v":81},{"$f":"Be!I64","v":322},null,{"$f":"Be!A57","v":"Hétvezér Általános Iskola Székesfehérvár"}]
["11.",{"$f":"Be!A54","v":"Wéber Róbert"},{"$f":"Be!B54","v":2007},{"$f":"Be!C54","v":8.84},{"$f":"Be!D54","v":168},{"$f":"Be!E54","v":3.89},{"$f":"Be!F54","v":92},{"$f":"Be!G54","v":24.4},{"$f":"Be!H54","v":56},{"$f":"Be!I54","v":316},null,{"$f":"Be!A47","v":"Kossuth Lajos Általános Iskola Nagyvenyim"}]
["12.",{"$f":"Be!A79","v":"Dávid Ármin"},{"$f":"Be!B79","v":2006},{"$f":"Be!C79","v":9.41},{"$f":"Be!D79","v":143},{"$f":"Be!E79","v":4.13},{"$f":"Be!F79","v":104},{"$f":"Be!G79","v":28.56},{"$f":"Be!H79","v":68},{"$f":"Be!I79","v":315},null,{"$f":"Be!A77","v":"Vörösmarty Mihály Általános Iskola Székesfehérvár"}]
["13.",{"$f":"Be!A51","v":"Kolompár Lajos"},{"$f":"Be!B51","v":2006},{"$f":"Be!C51","v":9.4700000000000006},{"$f":"Be!D51","v":140},{"$f":"Be!E51","v":3.92},{"$f":"Be!F51","v":93},{"$f":"Be!G51","v":32.44},{"$f":"Be!H51","v":80},{"$f":"Be!I51","v":313},null,{"$f":"Be!A47","v":"Kossuth Lajos Általános Iskola Nagyvenyim"}]
["14.",{"$f":"Be!A5","v":"Kecskés Zsombor"},{"$f":"Be!B5","v":2006},{"$f":"Be!C5","v":9.36},{"$f":"Be!D5","v":145},{"$f":"Be!E5","v":3.66},{"$f":"Be!F5","v":81},{"$f":"Be!G5","v":34.520000000000003},{"$f":"Be!H5","v":86},{"$f":"Be!I5","v":312},null,{"$f":"Be!K5","v":"Váli Vajda János Általános Iskola Vál"}]
["15.",{"$f":"Be!A73","v":"Mohai Bálint"},{"$f":"Be!B73","v":2006},{"$f":"Be!C73","v":9.23},{"$f":"Be!D73","v":150},{"$f":"Be!E73","v":3.84},{"$f":"Be!F73","v":90},{"$f":"Be!G73","v":28.21},{"$f":"Be!H73","v":67},{"$f":"Be!I73","v":307},null,{"$f":"Be!A67","v":"Tóvárosi Általános Iskola Székesfehérvár"}]
["16.",{"$f":"Be!A43","v":"Zsédely Levente"},{"$f":"Be!B43","v":2007},{"$f":"Be!C43","v":9.42},{"$f":"Be!D43","v":142},{"$f":"Be!E43","v":3.88},{"$f":"Be!F43","v":92},{"$f":"Be!G43","v":28.87},{"$f":"Be!H43","v":69},{"$f":"Be!I43","v":303},null,{"$f":"Be!A37","v":"Szent Erzsébet Római Katolikus Általános Iskola Mór "}]
["17.",{"$f":"Be!A40","v":"Jánni Ákos"},{"$f":"Be!B40","v":2006},{"$f":"Be!C40","v":9.86},{"$f":"Be!D40","v":124},{"$f":"Be!E40","v":3.67},{"$f":"Be!F40","v":82},{"$f":"Be!G40","v":37.17},{"$f":"Be!H40","v":94},{"$f":"Be!I40","v":300},null,{"$f":"Be!A37","v":"Szent Erzsébet Római Katolikus Általános Iskola Mór "}]
["18.",{"$f":"Be!A52","v":"Kolompár Milán Rómeó"},{"$f":"Be!B52","v":2006},{"$f":"Be!C52","v":9.83},{"$f":"Be!D52","v":125},{"$f":"Be!E52","v":3.43},{"$f":"Be!F52","v":71},{"$f":"Be!G52","v":39.26},{"$f":"Be!H52","v":101},{"$f":"Be!I52","v":297},null,{"$f":"Be!A47","v":"Kossuth Lajos Általános Iskola Nagyvenyim"}]
["19.",{"$f":"Be!A89","v":"Csehák Botond"},{"$f":"Be!B89","v":2006},{"$f":"Be!C89","v":10.02},{"$f":"Be!D89","v":117},{"$f":"Be!E89","v":3.8},{"$f":"Be!F89","v":88},{"$f":"Be!G89","v":35.29},{"$f":"Be!H89","v":89},{"$f":"Be!I89","v":294},null,{"$f":"Be!A87","v":"Gorsium Általános Iskola és Csősz Általános Iskola Tagintézmény Tác"}]
["20.",{"$f":"Be!A30","v":"Antal Márton"},{"$f":"Be!B30","v":2006},{"$f":"Be!C30","v":9.3800000000000008},{"$f":"Be!D30","v":144},{"$f":"Be!E30","v":3.52},{"$f":"Be!F30","v":75},{"$f":"Be!G30","v":29.73},{"$f":"Be!H30","v":72},{"$f":"Be!I30","v":291},null,{"$f":"Be!A27","v":"Alcsútdobozi József Nádor Általános Iskola Alcsútdoboz"}]
["21.",{"$f":"Be!A59","v":"Keserü Balázs"},{"$f":"Be!B59","v":2006},{"$f":"Be!C59","v":9.89},{"$f":"Be!D59","v":123},{"$f":"Be!E59","v":3.63},{"$f":"Be!F59","v":80},{"$f":"Be!G59","v":32.72},{"$f":"Be!H59","v":81},{"$f":"Be!I59","v":284},null,{"$f":"Be!A57","v":"Hétvezér Általános Iskola Székesfehérvár"}]
["22.",{"$f":"Be!A91","v":"Gellén Zsolt Patrik"},{"$f":"Be!B91","v":2006},{"$f":"Be!C91","v":9.8800000000000008},{"$f":"Be!D91","v":123},{"$f":"Be!E91","v":3.82},{"$f":"Be!F91","v":89},{"$f":"Be!G91","v":29.86},{"$f":"Be!H91","v":72},{"$f":"Be!I91","v":284},null,{"$f":"Be!A87","v":"Gorsium Általános Iskola és Csősz Általános Iskola Tagintézmény Tác"}]
["23.",{"$f":"Be!A60","v":"Kovács Kristóf"},{"$f":"Be!B60","v":2006},{"$f":"Be!C60","v":9.9600000000000009},{"$f":"Be!D60","v":120},{"$f":"Be!E60","v":3.63},{"$f":"Be!F60","v":80},{"$f":"Be!G60","v":33.229999999999997},{"$f":"Be!H60","v":82},{"$f":"Be!I60","v":282},null,{"$f":"Be!A57","v":"Hétvezér Általános Iskola Székesfehérvár"}]
["24.",{"$f":"Be!A61","v":"Kovács Zsombor"},{"$f":"Be!B61","v":2006},{"$f":"Be!C61","v":9.66},{"$f":"Be!D61","v":132},{"$f":"Be!E61","v":3.72},{"$f":"Be!F61","v":84},{"$f":"Be!G61","v":27.59},{"$f":"Be!H61","v":66},{"$f":"Be!I61","v":282},null,{"$f":"Be!A57","v":"Hétvezér Általános Iskola Székesfehérvár"}]
["25.",{"$f":"Be!A41","v":"Lenchés Tamás"},{"$f":"Be!B41","v":2006},{"$f":"Be!C41","v":9.7100000000000009},{"$f":"Be!D41","v":130},{"$f":"Be!E41","v":3.26},{"$f":"Be!F41","v":63},{"$f":"Be!G41","v":32.03},{"$f":"Be!H41","v":79},{"$f":"Be!I41","v":272},null,{"$f":"Be!A37","v":"Szent Erzsébet Római Katolikus Általános Iskola Mór "}]
["26.",{"$f":"Be!A42","v":"Szemeti Márton"},{"$f":"Be!B42","v":2006},{"$f":"Be!C42","v":9.9600000000000009},{"$f":"Be!D42","v":120},{"$f":"Be!E42","v":3.21},{"$f":"Be!F42","v":61},{"$f":"Be!G42","v":34.31},{"$f":"Be!H42","v":86},{"$f":"Be!I42","v":267},null,{"$f":"Be!A37","v":"Szent Erzsébet Római Katolikus Általános Iskola Mór "}]
["27.",{"$f":"Be!A53","v":"Mess Ferenc Gergő"},{"$f":"Be!B53","v":2007},{"$f":"Be!C53","v":9.7200000000000006},{"$f":"Be!D53","v":130},{"$f":"Be!E53","v":3.45},{"$f":"Be!F53","v":72},{"$f":"Be!G53","v":26.16},{"$f":"Be!H53","v":61},{"$f":"Be!I53","v":263},null,{"$f":"Be!A47","v":"Kossuth Lajos Általános Iskola Nagyvenyim"}]
["28.",{"$f":"Be!A72","v":"Varga Tamás"},{"$f":"Be!B72","v":2006},{"$f":"Be!C72","v":9.86},{"$f":"Be!D72","v":124},{"$f":"Be!E72","v":3.83},{"$f":"Be!F72","v":89},{"$f":"Be!G72","v":22.41},{"$f":"Be!H72","v":50},{"$f":"Be!I72","v":263},null,{"$f":"Be!A67","v":"Tóvárosi Általános Iskola Székesfehérvár"}]
["29.",{"$f":"Be!A74","v":"Németh Péter"},{"$f":"Be!B74","v":2006},{"$f":"Be!C74","v":10.26},{"$f":"Be!D74","v":107},{"$f":"Be!E74","v":3.39},{"$f":"Be!F74","v":69},{"$f":"Be!G74","v":34.01},{"$f":"Be!H74","v":85},{"$f":"Be!I74","v":261},null,{"$f":"Be!A67","v":"Tóvárosi Általános Iskola Székesfehérvár"}]
["30.",{"$f":"Be!A32","v":" Budai Kristóf Tamás"},{"$f":"Be!B32","v":2006},{"$f":"Be!C32","v":9.89},{"$f":"Be!D32","v":123},{"$f":"Be!E32","v":3.6},{"$f":"Be!F32","v":79},{"$f":"Be!G32","v":24.78},{"$f":"Be!H32","v":57},{"$f":"Be!I32","v":259},null,{"$f":"Be!A27","v":"Alcsútdobozi József Nádor Általános Iskola Alcsútdoboz"}]
["31.",{"$f":"Be!A81","v":"Szalay Levente"},{"$f":"Be!B81","v":2006},{"$f":"Be!C81","v":9.98},{"$f":"Be!D81","v":119},{"$f":"Be!E81","v":3.26},{"$f":"Be!F81","v":63},{"$f":"Be!G81","v":31.09},{"$f":"Be!H81","v":76},{"$f":"Be!I81","v":258},null,{"$f":"Be!A77","v":"Vörösmarty Mihály Általános Iskola Székesfehérvár"}]
["32.",{"$f":"Be!A90","v":"Dallos Mirkó Benedek"},{"$f":"Be!B90","v":2007},{"$f":"Be!C90","v":10.27},{"$f":"Be!D90","v":107},{"$f":"Be!E90","v":3.71},{"$f":"Be!F90","v":84},{"$f":"Be!G90","v":25.67},{"$f":"Be!H90","v":60},{"$f":"Be!I90","v":251},null,{"$f":"Be!A87","v":"Gorsium Általános Iskola és Csősz Általános Iskola Tagintézmény Tác"}]
["33.",{"$f":"Be!A39","v":"Gellért Zsombor"},{"$f":"Be!B39","v":2007},{"$f":"Be!C39","v":9.8800000000000008},{"$f":"Be!D39","v":123},{"$f":"Be!E39","v":3.19},{"$f":"Be!F39","v":60},{"$f":"Be!G39","v":27.2},{"$f":"Be!H39","v":64},{"$f":"Be!I39","v":247},null,{"$f":"Be!A37","v":"Szent Erzsébet Római Katolikus Általános Iskola Mór "}]
["34.",{"$f":"Be!A82","v":"Mészáros Noel"},{"$f":"Be!B82","v":2006},{"$f":"Be!C82","v":10.01},{"$f":"Be!D82","v":118},{"$f":"Be!E82","v":3.48},{"$f":"Be!F82","v":73},{"$f":"Be!G82","v":24.13},{"$f":"Be!H82","v":55},{"$f":"Be!I82","v":246},null,{"$f":"Be!A77","v":"Vörösmarty Mihály Általános Iskola Székesfehérvár"}]
["35.",{"$f":"Be!A29","v":"Ángyás Ferenc János"},{"$f":"Be!B29","v":2006},{"$f":"Be!C29","v":10.4},{"$f":"Be!D29","v":101},{"$f":"Be!E29","v":3.22},{"$f":"Be!F29","v":61},{"$f":"Be!G29","v":31.56},{"$f":"Be!H29","v":77},{"$f":"Be!I29","v":239},null,{"$f":"Be!A27","v":"Alcsútdobozi József Nádor Általános Iskola Alcsútdoboz"}]
["36.",{"$f":"Be!A92","v":"Szauter Bercel"},{"$f":"Be!B92","v":2007},{"$f":"Be!C92","v":10.43},{"$f":"Be!D92","v":100},{"$f":"Be!E92","v":3.35},{"$f":"Be!F92","v":67},{"$f":"Be!G92","v":26.46},{"$f":"Be!H92","v":62},{"$f":"Be!I92","v":229},null,{"$f":"Be!A87","v":"Gorsium Általános Iskola és Csősz Általános Iskola Tagintézmény Tác"}]
["37.",{"$f":"Be!A80","v":"Fábián Barnabás"},{"$f":"Be!B80","v":2006},{"$f":"Be!C80","v":10.3},{"$f":"Be!D80","v":106},{"$f":"Be!E80","v":3.28},{"$f":"Be!F80","v":64},{"$f":"Be!G80","v":24.92},{"$f":"Be!H80","v":58},{"$f":"Be!I80","v":228},null,{"$f":"Be!A77","v":"Vörösmarty Mihály Általános Iskola Székesfehérvár"}]
["38.",{"$f":"Be!A34","v":"Marton István"},{"$f":"Be!B34","v":2006},{"$f":"Be!C34","v":10.5},{"$f":"Be!D34","v":97},{"$f":"Be!E34","v":3.34},{"$f":"Be!F34","v":67},{"$f":"Be!G34","v":25.48},{"$f":"Be!H34","v":59},{"$f":"Be!I34","v":223},null,{"$f":"Be!A27","v":"Alcsútdobozi József Nádor Általános Iskola Alcsútdoboz"}]
["39.",{"$f":"Be!A83","v":"Sági Bálint"},{"$f":"Be!B83","v":2007},{"$f":"Be!C83","v":10.199999999999999},{"$f":"Be!D83","v":110},{"$f":"Be!E83","v":3.51},{"$f":"Be!F83","v":75},{"$f":"Be!G83","v":17.62},{"$f":"Be!H83","v":37},{"$f":"Be!I83","v":222},null,{"$f":"Be!A77","v":"Vörösmarty Mihály Általános Iskola Székesfehérvár"}]
["40.",{"$f":"Be!A31","v":"Bíró Ádám Levente"},{"$f":"Be!B31","v":2006},{"$f":"Be!C31","v":10.26},{"$f":"Be!D31","v":107},{"$f":"Be!E31","v":3.11},{"$f":"Be!F31","v":56},{"$f":"Be!G31","v":24.56},{"$f":"Be!H31","v":56},{"$f":"Be!I31","v":219},null,{"$f":"Be!A27","v":"Alcsútdobozi József Nádor Általános Iskola Alcsútdoboz"}]
["41.",{"$f":"Be!A44","v":"Krausz Dávid"},{"$f":"Be!B44","v":2006},{"$f":"Be!C44","v":10.58},{"$f":"Be!D44","v":94},{"$f":"Be!E44","v":2.77},{"$f":"Be!F44","v":41},{"$f":"Be!G44","v":31.07},{"$f":"Be!H44","v":76},{"$f":"Be!I44","v":211},null,{"$f":"Be!A37","v":"Szent Erzsébet Római Katolikus Általános Iskola Mór "}]
["42.",{"$f":"Be!A49","v":"Balogh Mátyás"},{"$f":"Be!B49","v":2007},{"$f":"Be!C49","v":10.97},{"$f":"Be!D49","v":80},{"$f":"Be!E49","v":3.15},{"$f":"Be!F49","v":58},{"$f":"Be!G49","v":29.99},{"$f":"Be!H49","v":73},{"$f":"Be!I49","v":211},null,{"$f":"Be!A47","v":"Kossuth Lajos Általános Iskola Nagyvenyim"}]
["43.",{"$f":"Be!A33","v":"Keindl Gergő"},{"$f":"Be!B33","v":2006},{"$f":"Be!C33","v":10.33},{"$f":"Be!D33","v":104},{"$f":"Be!E33","v":2.8},{"$f":"Be!F33","v":42},{"$f":"Be!G33","v":26.46},{"$f":"Be!H33","v":62},{"$f":"Be!I33","v":208},null,{"$f":"Be!A27","v":"Alcsútdobozi József Nádor Általános Iskola Alcsútdoboz"}]
["44.",{"$f":"Be!A93","v":"Szimander Gergő"},{"$f":"Be!B93","v":2007},{"$f":"Be!C93","v":11.36},{"$f":"Be!D93","v":65},{"$f":"Be!E93","v":3.21},{"$f":"Be!F93","v":61},{"$f":"Be!G93","v":23.33},{"$f":"Be!H93","v":53},{"$f":"Be!I93","v":179},null,{"$f":"Be!A87","v":"Gorsium Általános Iskola és Csősz Általános Iskola Tagintézmény Tác"}]
[null,{"$f":"Be!A99","v":0},{"$f":"Be!B99","v":0},{"$f":"Be!C99","v":0},{"$f":"Be!D99","v":0},{"$f":"Be!E99","v":0},{"$f":"Be!F99","v":0},{"$f":"Be!G99","v":0},{"$f":"Be!H99","v":0},{"$f":"Be!I99","v":0},null,{"$f":"Be!A97","v":0}]
[null,{"$f":"Be!A100","v":0},{"$f":"Be!B100","v":0},{"$f":"Be!C100","v":0},{"$f":"Be!D100","v":0},{"$f":"Be!E100","v":0},{"$f":"Be!F100","v":0},{"$f":"Be!G100","v":0},{"$f":"Be!H100","v":0},{"$f":"Be!I100","v":0},null,{"$f":"Be!A97","v":0}]
[null,{"$f":"Be!A101","v":0},{"$f":"Be!B101","v":0},{"$f":"Be!C101","v":0},{"$f":"Be!D101","v":0},{"$f":"Be!E101","v":0},{"$f":"Be!F101","v":0},{"$f":"Be!G101","v":0},{"$f":"Be!H101","v":0},{"$f":"Be!I101","v":0},null,{"$f":"Be!A97","v":0}]
[null,{"$f":"Be!A102","v":0},{"$f":"Be!B102","v":0},{"$f":"Be!C102","v":0},{"$f":"Be!D102","v":0},{"$f":"Be!E102","v":0},{"$f":"Be!F102","v":0},{"$f":"Be!G102","v":0},{"$f":"Be!H102","v":0},{"$f":"Be!I102","v":0},null,{"$f":"Be!A97","v":0}]
[null,{"$f":"Be!A103","v":0},{"$f":"Be!B103","v":0},{"$f":"Be!C103","v":0},{"$f":"Be!D103","v":0},{"$f":"Be!E103","v":0},{"$f":"Be!F103","v":0},{"$f":"Be!G103","v":0},{"$f":"Be!H103","v":0},{"$f":"Be!I103","v":0},null,{"$f":"Be!A97","v":0}]
[null,{"$f":"Be!A104","v":0},{"$f":"Be!B104","v":0},{"$f":"Be!C104","v":0},{"$f":"Be!D104","v":0},{"$f":"Be!E104","v":0},{"$f":"Be!F104","v":0},{"$f":"Be!G104","v":0},{"$f":"Be!H104","v":0},{"$f":"Be!I104","v":0},null,{"$f":"Be!A97","v":0}]
[null,{"$f":"Be!A109","v":0},{"$f":"Be!B109","v":0},{"$f":"Be!C109","v":0},{"$f":"Be!D109","v":0},{"$f":"Be!E109","v":0},{"$f":"Be!F109","v":0},{"$f":"Be!G109","v":0},{"$f":"Be!H109","v":0},{"$f":"Be!I109","v":0},null,{"$f":"Be!A107","v":0}]
[null,{"$f":"Be!A110","v":0},{"$f":"Be!B110","v":0},{"$f":"Be!C110","v":0},{"$f":"Be!D110","v":0},{"$f":"Be!E110","v":0},{"$f":"Be!F110","v":0},{"$f":"Be!G110","v":0},{"$f":"Be!H110","v":0},{"$f":"Be!I110","v":0},null,{"$f":"Be!A107","v":0}]
[null,{"$f":"Be!A111","v":0},{"$f":"Be!B111","v":0},{"$f":"Be!C111","v":0},{"$f":"Be!D111","v":0},{"$f":"Be!E111","v":0},{"$f":"Be!F111","v":0},{"$f":"Be!G111","v":0},{"$f":"Be!H111","v":0},{"$f":"Be!I111","v":0},null,{"$f":"Be!A107","v":0}]
[null,{"$f":"Be!A112","v":0},{"$f":"Be!B112","v":0},{"$f":"Be!C112","v":0},{"$f":"Be!D112","v":0},{"$f":"Be!E112","v":0},{"$f":"Be!F112","v":0},{"$f":"Be!G112","v":0},{"$f":"Be!H112","v":0},{"$f":"Be!I112","v":0},null,{"$f":"Be!A107","v":0}]
[null,{"$f":"Be!A113","v":0},{"$f":"Be!B113","v":0},{"$f":"Be!C113","v":0},{"$f":"Be!D113","v":0},{"$f":"Be!E113","v":0},{"$f":"Be!F113","v":0},{"$f":"Be!G113","v":0},{"$f":"Be!H113","v":0},{"$f":"Be!I113","v":0},null,{"$f":"Be!A107","v":0}]
[null,{"$f":"Be!A114","v":0},{"$f":"Be!B114","v":0},{"$f":"Be!C114","v":0},{"$f":"Be!D114","v":0},{"$f":"Be!E114","v":0},{"$f":"Be!F114","v":0},{"$f":"Be!G114","v":0},{"$f":"Be!H114","v":0},{"$f":"Be!I114","v":0},null,{"$f":"Be!A107","v":0}]
[null,{"$f":"Be!A119","v":0},{"$f":"Be!B119","v":0},{"$f":"Be!C119","v":0},{"$f":"Be!D119","v":0},{"$f":"Be!E119","v":0},{"$f":"Be!F119","v":0},{"$f":"Be!G119","v":0},{"$f":"Be!H119","v":0},{"$f":"Be!I119","v":0},null,{"$f":"Be!A117","v":0}]
[null,{"$f":"Be!A120","v":0},{"$f":"Be!B120","v":0},{"$f":"Be!C120","v":0},{"$f":"Be!D120","v":0},{"$f":"Be!E120","v":0},{"$f":"Be!F120","v":0},{"$f":"Be!G120","v":0},{"$f":"Be!H120","v":0},{"$f":"Be!I120","v":0},null,{"$f":"Be!A117","v":0}]
[null,{"$f":"Be!A121","v":0},{"$f":"Be!B121","v":0},{"$f":"Be!C121","v":0},{"$f":"Be!D121","v":0},{"$f":"Be!E121","v":0},{"$f":"Be!F121","v":0},{"$f":"Be!G121","v":0},{"$f":"Be!H121","v":0},{"$f":"Be!I121","v":0},null,{"$f":"Be!A117","v":0}]
[null,{"$f":"Be!A122","v":0},{"$f":"Be!B122","v":0},{"$f":"Be!C122","v":0},{"$f":"Be!D122","v":0},{"$f":"Be!E122","v":0},{"$f":"Be!F122","v":0},{"$f":"Be!G122","v":0},{"$f":"Be!H122","v":0},{"$f":"Be!I122","v":0},null,{"$f":"Be!A117","v":0}]
[null,{"$f":"Be!A123","v":0},{"$f":"Be!B123","v":0},{"$f":"Be!C123","v":0},{"$f":"Be!D123","v":0},{"$f":"Be!E123","v":0},{"$f":"Be!F123","v":0},{"$f":"Be!G123","v":0},{"$f":"Be!H123","v":0},{"$f":"Be!I123","v":0},null,{"$f":"Be!A117","v":0}]
[null,{"$f":"Be!A124","v":0},{"$f":"Be!B124","v":0},{"$f":"Be!C124","v":0},{"$f":"Be!D124","v":0},{"$f":"Be!E124","v":0},{"$f":"Be!F124","v":0},{"$f":"Be!G124","v":0},{"$f":"Be!H124","v":0},{"$f":"Be!I124","v":0},null,{"$f":"Be!A117","v":0}]
[null,{"$f":"Be!A129","v":0},{"$f":"Be!B129","v":0},{"$f":"Be!C129","v":0},{"$f":"Be!D129","v":0},{"$f":"Be!E129","v":0},{"$f":"Be!F129","v":0},{"$f":"Be!G129","v":0},{"$f":"Be!H129","v":0},{"$f":"Be!I129","v":0},null,{"$f":"Be!A127","v":0}]
[null,{"$f":"Be!A130","v":0},{"$f":"Be!B130","v":0},{"$f":"Be!C130","v":0},{"$f":"Be!D130","v":0},{"$f":"Be!E130","v":0},{"$f":"Be!F130","v":0},{"$f":"Be!G130","v":0},{"$f":"Be!H130","v":0},{"$f":"Be!I130","v":0},null,{"$f":"Be!A127","v":0}]
[null,{"$f":"Be!A131","v":0},{"$f":"Be!B131","v":0},{"$f":"Be!C131","v":0},{"$f":"Be!D131","v":0},{"$f":"Be!E131","v":0},{"$f":"Be!F131","v":0},{"$f":"Be!G131","v":0},{"$f":"Be!H131","v":0},{"$f":"Be!I131","v":0},null,{"$f":"Be!A127","v":0}]
[null,{"$f":"Be!A132","v":0},{"$f":"Be!B132","v":0},{"$f":"Be!C132","v":0},{"$f":"Be!D132","v":0},{"$f":"Be!E132","v":0},{"$f":"Be!F132","v":0},{"$f":"Be!G132","v":0},{"$f":"Be!H132","v":0},{"$f":"Be!I132","v":0},null,{"$f":"Be!A127","v":0}]
[null,{"$f":"Be!A133","v":0},{"$f":"Be!B133","v":0},{"$f":"Be!C133","v":0},{"$f":"Be!D133","v":0},{"$f":"Be!E133","v":0},{"$f":"Be!F133","v":0},{"$f":"Be!G133","v":0},{"$f":"Be!H133","v":0},{"$f":"Be!I133","v":0},null,{"$f":"Be!A127","v":0}]
[null,{"$f":"Be!A134","v":0},{"$f":"Be!B134","v":0},{"$f":"Be!C134","v":0},{"$f":"Be!D134","v":0},{"$f":"Be!E134","v":0},{"$f":"Be!F134","v":0},{"$f":"Be!G134","v":0},{"$f":"Be!H134","v":0},{"$f":"Be!I134","v":0},null,{"$f":"Be!A127","v":0}]
[null,{"$f":"Be!A139","v":0},{"$f":"Be!B139","v":0},{"$f":"Be!C139","v":0},{"$f":"Be!D139","v":0},{"$f":"Be!E139","v":0},{"$f":"Be!F139","v":0},{"$f":"Be!G139","v":0},{"$f":"Be!H139","v":0},{"$f":"Be!I139","v":0},null,{"$f":"Be!A137","v":0}]
[null,{"$f":"Be!A140","v":0},{"$f":"Be!B140","v":0},{"$f":"Be!C140","v":0},{"$f":"Be!D140","v":0},{"$f":"Be!E140","v":0},{"$f":"Be!F140","v":0},{"$f":"Be!G140","v":0},{"$f":"Be!H140","v":0},{"$f":"Be!I140","v":0},null,{"$f":"Be!A137","v":0}]
[null,{"$f":"Be!A141","v":0},{"$f":"Be!B141","v":0},{"$f":"Be!C141","v":0},{"$f":"Be!D141","v":0},{"$f":"Be!E141","v":0},{"$f":"Be!F141","v":0},{"$f":"Be!G141","v":0},{"$f":"Be!H141","v":0},{"$f":"Be!I141","v":0},null,{"$f":"Be!A137","v":0}]
[null,{"$f":"Be!A142","v":0},{"$f":"Be!B142","v":0},{"$f":"Be!C142","v":0},{"$f":"Be!D142","v":0},{"$f":"Be!E142","v":0},{"$f":"Be!F142","v":0},{"$f":"Be!G142","v":0},{"$f":"Be!H142","v":0},{"$f":"Be!I142","v":0},null,{"$f":"Be!A137","v":0}]
[null,{"$f":"Be!A143","v":0},{"$f":"Be!B143","v":0},{"$f":"Be!C143","v":0},{"$f":"Be!D143","v":0},{"$f":"Be!E143","v":0},{"$f":"Be!F143","v":0},{"$f":"Be!G143","v":0},{"$f":"Be!H143","v":0},{"$f":"Be!I143","v":0},null,{"$f":"Be!A137","v":0}]
[null,{"$f":"Be!A144","v":0},{"$f":"Be!B144","v":0},{"$f":"Be!C144","v":0},{"$f":"Be!D144","v":0},{"$f":"Be!E144","v":0},{"$f":"Be!F144","v":0},{"$f":"Be!G144","v":0},{"$f":"Be!H144","v":0},{"$f":"Be!I144","v":0},null,{"$f":"Be!A137","v":0}]
[null,{"$f":"Be!A149","v":0},{"$f":"Be!B149","v":0},{"$f":"Be!C149","v":0},{"$f":"Be!D149","v":0},{"$f":"Be!E149","v":0},{"$f":"Be!F149","v":0},{"$f":"Be!G149","v":0},{"$f":"Be!H149","v":0},{"$f":"Be!I149","v":0},null,{"$f":"Be!A147","v":0}]
[null,{"$f":"Be!A150","v":0},{"$f":"Be!B150","v":0},{"$f":"Be!C150","v":0},{"$f":"Be!D150","v":0},{"$f":"Be!E150","v":0},{"$f":"Be!F150","v":0},{"$f":"Be!G150","v":0},{"$f":"Be!H150","v":0},{"$f":"Be!I150","v":0},null,{"$f":"Be!A147","v":0}]
[null,{"$f":"Be!A151","v":0},{"$f":"Be!B151","v":0},{"$f":"Be!C151","v":0},{"$f":"Be!D151","v":0},{"$f":"Be!E151","v":0},{"$f":"Be!F151","v":0},{"$f":"Be!G151","v":0},{"$f":"Be!H151","v":0},{"$f":"Be!I151","v":0},null,{"$f":"Be!A147","v":0}]
[null,{"$f":"Be!A152","v":0},{"$f":"Be!B152","v":0},{"$f":"Be!C152","v":0},{"$f":"Be!D152","v":0},{"$f":"Be!E152","v":0},{"$f":"Be!F152","v":0},{"$f":"Be!G152","v":0},{"$f":"Be!H152","v":0},{"$f":"Be!I152","v":0},null,{"$f":"Be!A147","v":0}]
[null,{"$f":"Be!A153","v":0},{"$f":"Be!B153","v":0},{"$f":"Be!C153","v":0},{"$f":"Be!D153","v":0},{"$f":"Be!E153","v":0},{"$f":"Be!F153","v":0},{"$f":"Be!G153","v":0},{"$f":"Be!H153","v":0},{"$f":"Be!I153","v":0},null,{"$f":"Be!A147","v":0}]
[null,{"$f":"Be!A154","v":0},{"$f":"Be!B154","v":0},{"$f":"Be!C154","v":0},{"$f":"Be!D154","v":0},{"$f":"Be!E154","v":0},{"$f":"Be!F154","v":0},{"$f":"Be!G154","v":0},{"$f":"Be!H154","v":0},{"$f":"Be!I154","v":0},null,{"$f":"Be!A147","v":0}]
[null,{"$f":"Be!A159","v":0},{"$f":"Be!B159","v":0},{"$f":"Be!C159","v":0},{"$f":"Be!D159","v":0},{"$f":"Be!E159","v":0},{"$f":"Be!F159","v":0},{"$f":"Be!G159","v":0},{"$f":"Be!H159","v":0},{"$f":"Be!I159","v":0},null,{"$f":"Be!A157","v":0}]
[null,{"$f":"Be!A160","v":0},{"$f":"Be!B160","v":0},{"$f":"Be!C160","v":0},{"$f":"Be!D160","v":0},{"$f":"Be!E160","v":0},{"$f":"Be!F160","v":0},{"$f":"Be!G160","v":0},{"$f":"Be!H160","v":0},{"$f":"Be!I160","v":0},null,{"$f":"Be!A157","v":0}]
[null,{"$f":"Be!A161","v":0},{"$f":"Be!B161","v":0},{"$f":"Be!C161","v":0},{"$f":"Be!D161","v":0},{"$f":"Be!E161","v":0},{"$f":"Be!F161","v":0},{"$f":"Be!G161","v":0},{"$f":"Be!H161","v":0},{"$f":"Be!I161","v":0},null,{"$f":"Be!A157","v":0}]
[null,{"$f":"Be!A162","v":0},{"$f":"Be!B162","v":0},{"$f":"Be!C162","v":0},{"$f":"Be!D162","v":0},{"$f":"Be!E162","v":0},{"$f":"Be!F162","v":0},{"$f":"Be!G162","v":0},{"$f":"Be!H162","v":0},{"$f":"Be!I162","v":0},null,{"$f":"Be!A157","v":0}]
[null,{"$f":"Be!A163","v":0},{"$f":"Be!B163","v":0},{"$f":"Be!C163","v":0},{"$f":"Be!D163","v":0},{"$f":"Be!E163","v":0},{"$f":"Be!F163","v":0},{"$f":"Be!G163","v":0},{"$f":"Be!H163","v":0},{"$f":"Be!I163","v":0},null,{"$f":"Be!A157","v":0}]
[null,{"$f":"Be!A164","v":0},{"$f":"Be!B164","v":0},{"$f":"Be!C164","v":0},{"$f":"Be!D164","v":0},{"$f":"Be!E164","v":0},{"$f":"Be!F164","v":0},{"$f":"Be!G164","v":0},{"$f":"Be!H164","v":0},{"$f":"Be!I164","v":0},null,{"$f":"Be!A157","v":0}]
[null,{"$f":"Be!A169","v":0},{"$f":"Be!B169","v":0},{"$f":"Be!C169","v":0},{"$f":"Be!D169","v":0},{"$f":"Be!E169","v":0},{"$f":"Be!F169","v":0},{"$f":"Be!G169","v":0},{"$f":"Be!H169","v":0},{"$f":"Be!I169","v":0},null,{"$f":"Be!A167","v":0}]
[null,{"$f":"Be!A170","v":0},{"$f":"Be!B170","v":0},{"$f":"Be!C170","v":0},{"$f":"Be!D170","v":0},{"$f":"Be!E170","v":0},{"$f":"Be!F170","v":0},{"$f":"Be!G170","v":0},{"$f":"Be!H170","v":0},{"$f":"Be!I170","v":0},null,{"$f":"Be!A167","v":0}]
[null,{"$f":"Be!A171","v":0},{"$f":"Be!B171","v":0},{"$f":"Be!C171","v":0},{"$f":"Be!D171","v":0},{"$f":"Be!E171","v":0},{"$f":"Be!F171","v":0},{"$f":"Be!G171","v":0},{"$f":"Be!H171","v":0},{"$f":"Be!I171","v":0},null,{"$f":"Be!A167","v":0}]
[null,{"$f":"Be!A172","v":0},{"$f":"Be!B172","v":0},{"$f":"Be!C172","v":0},{"$f":"Be!D172","v":0},{"$f":"Be!E172","v":0},{"$f":"Be!F172","v":0},{"$f":"Be!G172","v":0},{"$f":"Be!H172","v":0},{"$f":"Be!I172","v":0},null,{"$f":"Be!A167","v":0}]
[null,{"$f":"Be!A173","v":0},{"$f":"Be!B173","v":0},{"$f":"Be!C173","v":0},{"$f":"Be!D173","v":0},{"$f":"Be!E173","v":0},{"$f":"Be!F173","v":0},{"$f":"Be!G173","v":0},{"$f":"Be!H173","v":0},{"$f":"Be!I173","v":0},null,{"$f":"Be!A167","v":0}]
[null,{"$f":"Be!A174","v":0},{"$f":"Be!B174","v":0},{"$f":"Be!C174","v":0},{"$f":"Be!D174","v":0},{"$f":"Be!E174","v":0},{"$f":"Be!F174","v":0},{"$f":"Be!G174","v":0},{"$f":"Be!H174","v":0},{"$f":"Be!I174","v":0},null,{"$f":"Be!A167","v":0}]
[null,{"$f":"Be!A179","v":0},{"$f":"Be!B179","v":0},{"$f":"Be!C179","v":0},{"$f":"Be!D179","v":0},{"$f":"Be!E179","v":0},{"$f":"Be!F179","v":0},{"$f":"Be!G179","v":0},{"$f":"Be!H179","v":0},{"$f":"Be!I179","v":0},null,{"$f":"Be!A177","v":0}]
[null,{"$f":"Be!A180","v":0},{"$f":"Be!B180","v":0},{"$f":"Be!C180","v":0},{"$f":"Be!D180","v":0},{"$f":"Be!E180","v":0},{"$f":"Be!F180","v":0},{"$f":"Be!G180","v":0},{"$f":"Be!H180","v":0},{"$f":"Be!I180","v":0},null,{"$f":"Be!A177","v":0}]
[null,{"$f":"Be!A181","v":0},{"$f":"Be!B181","v":0},{"$f":"Be!C181","v":0},{"$f":"Be!D181","v":0},{"$f":"Be!E181","v":0},{"$f":"Be!F181","v":0},{"$f":"Be!G181","v":0},{"$f":"Be!H181","v":0},{"$f":"Be!I181","v":0},null,{"$f":"Be!A177","v":0}]
[null,{"$f":"Be!A182","v":0},{"$f":"Be!B182","v":0},{"$f":"Be!C182","v":0},{"$f":"Be!D182","v":0},{"$f":"Be!E182","v":0},{"$f":"Be!F182","v":0},{"$f":"Be!G182","v":0},{"$f":"Be!H182","v":0},{"$f":"Be!I182","v":0},null,{"$f":"Be!A177","v":0}]
[null,{"$f":"Be!A183","v":0},{"$f":"Be!B183","v":0},{"$f":"Be!C183","v":0},{"$f":"Be!D183","v":0},{"$f":"Be!E183","v":0},{"$f":"Be!F183","v":0},{"$f":"Be!G183","v":0},{"$f":"Be!H183","v":0},{"$f":"Be!I183","v":0},null,{"$f":"Be!A177","v":0}]
[null,{"$f":"Be!A184","v":0},{"$f":"Be!B184","v":0},{"$f":"Be!C184","v":0},{"$f":"Be!D184","v":0},{"$f":"Be!E184","v":0},{"$f":"Be!F184","v":0},{"$f":"Be!G184","v":0},{"$f":"Be!H184","v":0},{"$f":"Be!I184","v":0},null,{"$f":"Be!A177","v":0}]
[null,{"$f":"Be!A189","v":0},{"$f":"Be!B189","v":0},{"$f":"Be!C189","v":0},{"$f":"Be!D189","v":0},{"$f":"Be!E189","v":0},{"$f":"Be!F189","v":0},{"$f":"Be!G189","v":0},{"$f":"Be!H189","v":0},{"$f":"Be!I189","v":0},null,{"$f":"Be!A187","v":0}]
[null,{"$f":"Be!A190","v":0},{"$f":"Be!B190","v":0},{"$f":"Be!C190","v":0},{"$f":"Be!D190","v":0},{"$f":"Be!E190","v":0},{"$f":"Be!F190","v":0},{"$f":"Be!G190","v":0},{"$f":"Be!H190","v":0},{"$f":"Be!I190","v":0},null,{"$f":"Be!A187","v":0}]
[null,{"$f":"Be!A191","v":0},{"$f":"Be!B191","v":0},{"$f":"Be!C191","v":0},{"$f":"Be!D191","v":0},{"$f":"Be!E191","v":0},{"$f":"Be!F191","v":0},{"$f":"Be!G191","v":0},{"$f":"Be!H191","v":0},{"$f":"Be!I191","v":0},null,{"$f":"Be!A187","v":0}]
[null,{"$f":"Be!A192","v":0},{"$f":"Be!B192","v":0},{"$f":"Be!C192","v":0},{"$f":"Be!D192","v":0},{"$f":"Be!E192","v":0},{"$f":"Be!F192","v":0},{"$f":"Be!G192","v":0},{"$f":"Be!H192","v":0},{"$f":"Be!I192","v":0},null,{"$f":"Be!A187","v":0}]
[null,{"$f":"Be!A193","v":0},{"$f":"Be!B193","v":0},{"$f":"Be!C193","v":0},{"$f":"Be!D193","v":0},{"$f":"Be!E193","v":0},{"$f":"Be!F193","v":0},{"$f":"Be!G193","v":0},{"$f":"Be!H193","v":0},{"$f":"Be!I193","v":0},null,{"$f":"Be!A187","v":0}]
[null,{"$f":"Be!A194","v":0},{"$f":"Be!B194","v":0},{"$f":"Be!C194","v":0},{"$f":"Be!D194","v":0},{"$f":"Be!E194","v":0},{"$f":"Be!F194","v":0},{"$f":"Be!G194","v":0},{"$f":"Be!H194","v":0},{"$f":"Be!I194","v":0},null,{"$f":"Be!A187","v":0}]
[null,{"$f":"Be!A199","v":0},{"$f":"Be!B199","v":0},{"$f":"Be!C199","v":0},{"$f":"Be!D199","v":0},{"$f":"Be!E199","v":0},{"$f":"Be!F199","v":0},{"$f":"Be!G199","v":0},{"$f":"Be!H199","v":0},{"$f":"Be!I199","v":0},null,{"$f":"Be!A197","v":0}]
[null,{"$f":"Be!A200","v":0},{"$f":"Be!B200","v":0},{"$f":"Be!C200","v":0},{"$f":"Be!D200","v":0},{"$f":"Be!E200","v":0},{"$f":"Be!F200","v":0},{"$f":"Be!G200","v":0},{"$f":"Be!H200","v":0},{"$f":"Be!I200","v":0},null,{"$f":"Be!A197","v":0}]
[null,{"$f":"Be!A201","v":0},{"$f":"Be!B201","v":0},{"$f":"Be!C201","v":0},{"$f":"Be!D201","v":0},{"$f":"Be!E201","v":0},{"$f":"Be!F201","v":0},{"$f":"Be!G201","v":0},{"$f":"Be!H201","v":0},{"$f":"Be!I201","v":0},null,{"$f":"Be!A197","v":0}]
[null,{"$f":"Be!A202","v":0},{"$f":"Be!B202","v":0},{"$f":"Be!C202","v":0},{"$f":"Be!D202","v":0},{"$f":"Be!E202","v":0},{"$f":"Be!F202","v":0},{"$f":"Be!G202","v":0},{"$f":"Be!H202","v":0},{"$f":"Be!I202","v":0},null,{"$f":"Be!A197","v":0}]
[null,{"$f":"Be!A203","v":0},{"$f":"Be!B203","v":0},{"$f":"Be!C203","v":0},{"$f":"Be!D203","v":0},{"$f":"Be!E203","v":0},{"$f":"Be!F203","v":0},{"$f":"Be!G203","v":0},{"$f":"Be!H203","v":0},{"$f":"Be!I203","v":0},null,{"$f":"Be!A197","v":0}]
[null,{"$f":"Be!A204","v":0},{"$f":"Be!B204","v":0},{"$f":"Be!C204","v":0},{"$f":"Be!D204","v":0},{"$f":"Be!E204","v":0},{"$f":"Be!F204","v":0},{"$f":"Be!G204","v":0},{"$f":"Be!H204","v":0},{"$f":"Be!I204","v":0},null,{"$f":"Be!A197","v":0}]
[null,{"$f":"Be!A209","v":0},{"$f":"Be!B209","v":0},{"$f":"Be!C209","v":0},{"$f":"Be!D209","v":0},{"$f":"Be!E209","v":0},{"$f":"Be!F209","v":0},{"$f":"Be!G209","v":0},{"$f":"Be!H209","v":0},{"$f":"Be!I209","v":0},null,{"$f":"Be!A207","v":0}]
[null,{"$f":"Be!A210","v":0},{"$f":"Be!B210","v":0},{"$f":"Be!C210","v":0},{"$f":"Be!D210","v":0},{"$f":"Be!E210","v":0},{"$f":"Be!F210","v":0},{"$f":"Be!G210","v":0},{"$f":"Be!H210","v":0},{"$f":"Be!I210","v":0},null,{"$f":"Be!A207","v":0}]
[null,{"$f":"Be!A211","v":0},{"$f":"Be!B211","v":0},{"$f":"Be!C211","v":0},{"$f":"Be!D211","v":0},{"$f":"Be!E211","v":0},{"$f":"Be!F211","v":0},{"$f":"Be!G211","v":0},{"$f":"Be!H211","v":0},{"$f":"Be!I211","v":0},null,{"$f":"Be!A207","v":0}]
[null,{"$f":"Be!A212","v":0},{"$f":"Be!B212","v":0},{"$f":"Be!C212","v":0},{"$f":"Be!D212","v":0},{"$f":"Be!E212","v":0},{"$f":"Be!F212","v":0},{"$f":"Be!G212","v":0},{"$f":"Be!H212","v":0},{"$f":"Be!I212","v":0},null,{"$f":"Be!A207","v":0}]
[null,{"$f":"Be!A213","v":0},{"$f":"Be!B213","v":0},{"$f":"Be!C213","v":0},{"$f":"Be!D213","v":0},{"$f":"Be!E213","v":0},{"$f":"Be!F213","v":0},{"$f":"Be!G213","v":0},{"$f":"Be!H213","v":0},{"$f":"Be!I213","v":0},null,{"$f":"Be!A207","v":0}]
[null,{"$f":"Be!A214","v":0},{"$f":"Be!B214","v":0},{"$f":"Be!C214","v":0},{"$f":"Be!D214","v":0},{"$f":"Be!E214","v":0},{"$f":"Be!F214","v":0},{"$f":"Be!G214","v":0},{"$f":"Be!H214","v":0},{"$f":"Be!I214","v":0},null,{"$f":"Be!A207","v":0}]
[null,{"$f":"Be!A219","v":0},{"$f":"Be!B219","v":0},{"$f":"Be!C219","v":0},{"$f":"Be!D219","v":0},{"$f":"Be!E219","v":0},{"$f":"Be!F219","v":0},{"$f":"Be!G219","v":0},{"$f":"Be!H219","v":0},{"$f":"Be!I219","v":0},null,{"$f":"Be!A217","v":0}]
[null,{"$f":"Be!A220","v":0},{"$f":"Be!B220","v":0},{"$f":"Be!C220","v":0},{"$f":"Be!D220","v":0},{"$f":"Be!E220","v":0},{"$f":"Be!F220","v":0},{"$f":"Be!G220","v":0},{"$f":"Be!H220","v":0},{"$f":"Be!I220","v":0},null,{"$f":"Be!A217","v":0}]
[null,{"$f":"Be!A221","v":0},{"$f":"Be!B221","v":0},{"$f":"Be!C221","v":0},{"$f":"Be!D221","v":0},{"$f":"Be!E221","v":0},{"$f":"Be!F221","v":0},{"$f":"Be!G221","v":0},{"$f":"Be!H221","v":0},{"$f":"Be!I221","v":0},null,{"$f":"Be!A217","v":0}]
[null,{"$f":"Be!A222","v":0},{"$f":"Be!B222","v":0},{"$f":"Be!C222","v":0},{"$f":"Be!D222","v":0},{"$f":"Be!E222","v":0},{"$f":"Be!F222","v":0},{"$f":"Be!G222","v":0},{"$f":"Be!H222","v":0},{"$f":"Be!I222","v":0},null,{"$f":"Be!A217","v":0}]
[null,{"$f":"Be!A223","v":0},{"$f":"Be!B223","v":0},{"$f":"Be!C223","v":0},{"$f":"Be!D223","v":0},{"$f":"Be!E223","v":0},{"$f":"Be!F223","v":0},{"$f":"Be!G223","v":0},{"$f":"Be!H223","v":0},{"$f":"Be!I223","v":0},null,{"$f":"Be!A217","v":0}]
[null,{"$f":"Be!A224","v":0},{"$f":"Be!B224","v":0},{"$f":"Be!C224","v":0},{"$f":"Be!D224","v":0},{"$f":"Be!E224","v":0},{"$f":"Be!F224","v":0},{"$f":"Be!G224","v":0},{"$f":"Be!H224","v":0},{"$f":"Be!I224","v":0},null,{"$f":"Be!A217","v":0}]
[null,{"$f":"Be!A229","v":0},{"$f":"Be!B229","v":0},{"$f":"Be!C229","v":0},{"$f":"Be!D229","v":0},{"$f":"Be!E229","v":0},{"$f":"Be!F229","v":0},{"$f":"Be!G229","v":0},{"$f":"Be!H229","v":0},{"$f":"Be!I229","v":0},null,{"$f":"Be!A227","v":0}]
[null,{"$f":"Be!A230","v":0},{"$f":"Be!B230","v":0},{"$f":"Be!C230","v":0},{"$f":"Be!D230","v":0},{"$f":"Be!E230","v":0},{"$f":"Be!F230","v":0},{"$f":"Be!G230","v":0},{"$f":"Be!H230","v":0},{"$f":"Be!I230","v":0},null,{"$f":"Be!A227","v":0}]
[null,{"$f":"Be!A231","v":0},{"$f":"Be!B231","v":0},{"$f":"Be!C231","v":0},{"$f":"Be!D231","v":0},{"$f":"Be!E231","v":0},{"$f":"Be!F231","v":0},{"$f":"Be!G231","v":0},{"$f":"Be!H231","v":0},{"$f":"Be!I231","v":0},null,{"$f":"Be!A227","v":0}]
[null,{"$f":"Be!A232","v":0},{"$f":"Be!B232","v":0},{"$f":"Be!C232","v":0},{"$f":"Be!D232","v":0},{"$f":"Be!E232","v":0},{"$f":"Be!F232","v":0},{"$f":"Be!G232","v":0},{"$f":"Be!H232","v":0},{"$f":"Be!I232","v":0},null,{"$f":"Be!A227","v":0}]
[null,{"$f":"Be!A233","v":0},{"$f":"Be!B233","v":0},{"$f":"Be!C233","v":0},{"$f":"Be!D233","v":0},{"$f":"Be!E233","v":0},{"$f":"Be!F233","v":0},{"$f":"Be!G233","v":0},{"$f":"Be!H233","v":0},{"$f":"Be!I233","v":0},null,{"$f":"Be!A227","v":0}]
[null,{"$f":"Be!A234","v":0},{"$f":"Be!B234","v":0},{"$f":"Be!C234","v":0},{"$f":"Be!D234","v":0},{"$f":"Be!E234","v":0},{"$f":"Be!F234","v":0},{"$f":"Be!G234","v":0},{"$f":"Be!H234","v":0},{"$f":"Be!I234","v":0},null,{"$f":"Be!A227","v":0}]
[null,{"$f":"Be!A239","v":0},{"$f":"Be!B239","v":0},{"$f":"Be!C239","v":0},{"$f":"Be!D239","v":0},{"$f":"Be!E239","v":0},{"$f":"Be!F239","v":0},{"$f":"Be!G239","v":0},{"$f":"Be!H239","v":0},{"$f":"Be!I239","v":0},null,{"$f":"Be!A237","v":0}]
[null,{"$f":"Be!A240","v":0},{"$f":"Be!B240","v":0},{"$f":"Be!C240","v":0},{"$f":"Be!D240","v":0},{"$f":"Be!E240","v":0},{"$f":"Be!F240","v":0},{"$f":"Be!G240","v":0},{"$f":"Be!H240","v":0},{"$f":"Be!I240","v":0},null,{"$f":"Be!A237","v":0}]
[null,{"$f":"Be!A241","v":0},{"$f":"Be!B241","v":0},{"$f":"Be!C241","v":0},{"$f":"Be!D241","v":0},{"$f":"Be!E241","v":0},{"$f":"Be!F241","v":0},{"$f":"Be!G241","v":0},{"$f":"Be!H241","v":0},{"$f":"Be!I241","v":0},null,{"$f":"Be!A237","v":0}]
[null,{"$f":"Be!A242","v":0},{"$f":"Be!B242","v":0},{"$f":"Be!C242","v":0},{"$f":"Be!D242","v":0},{"$f":"Be!E242","v":0},{"$f":"Be!F242","v":0},{"$f":"Be!G242","v":0},{"$f":"Be!H242","v":0},{"$f":"Be!I242","v":0},null,{"$f":"Be!A237","v":0}]
[null,{"$f":"Be!A243","v":0},{"$f":"Be!B243","v":0},{"$f":"Be!C243","v":0},{"$f":"Be!D243","v":0},{"$f":"Be!E243","v":0},{"$f":"Be!F243","v":0},{"$f":"Be!G243","v":0},{"$f":"Be!H243","v":0},{"$f":"Be!I243","v":0},null,{"$f":"Be!A237","v":0}]
[null,{"$f":"Be!A244","v":0},{"$f":"Be!B244","v":0},{"$f":"Be!C244","v":0},{"$f":"Be!D244","v":0},{"$f":"Be!E244","v":0},{"$f":"Be!F244","v":0},{"$f":"Be!G244","v":0},{"$f":"Be!H244","v":0},{"$f":"Be!I244","v":0},null,{"$f":"Be!A237","v":0}]

{"sheet":"Csapat","index":3,"n_rows":24,"n_cols":3,"rows_kept":24,"cut":false,"hidden":false,"merged":[[0,0,0,2]]}
["II. korcsoport FIÚ CSAPAT verseny (Rendezés Ctrl + s )"]
[null,"Iskola","Pont"]
["1.",{"$f":"Be!$A$67&CHAR(10)&Be!$A$69&\"   \"&Be!$I$69&\"      \"&Be!$A$70&\"   \"&Be!$I$70&CHAR(10)&Be!$A$71&\"   \"&Be!$I$71&\"      \"&Be!$A$72&\"   \"&Be!$I$72&CHAR(10)&Be!$A$73&\"   \"&Be!$I$73&\"      \"&Be!$A$74&\"   \"&Be!$I$74&CHAR(10)&\"     \"&Be!$K$73&\"     \"&Be!$K$74","v":"Tóvárosi Általános Iskola Székesfehérvár\nDrexler Lóránt József   347      Grósz Gergő   366\nKerék Patrik   329      Varga Tamás   263\nMohai Bálint   307      Németh Péter   261\n     4×100     195"},{"$f":"Be!$K$69","v":1807}]
["2.",{"$f":"Be!$A$57&CHAR(10)&Be!$A$59&\"   \"&Be!$I$59&\"      \"&Be!$A$60&\"   \"&Be!$I$60&CHAR(10)&Be!$A$61&\"   \"&Be!$I$61&\"      \"&Be!$A$62&\"   \"&Be!$I$62&CHAR(10)&Be!$A$63&\"   \"&Be!$I$63&\"      \"&Be!$A$64&\"   \"&Be!$I$64&CHAR(10)&\"     \"&Be!$K$63&\"     \"&Be!$K$64","v":"Hétvezér Általános Iskola Székesfehérvár\nKeserü Balázs   284      Kovács Kristóf   282\nKovács Zsombor   282      Králik András   330\nSógorka Dávid   323      Zákány Zénó   322\n     4×100     156"},{"$f":"Be!$K$59","v":1697}]
["3.",{"$f":"Be!$A$47&CHAR(10)&Be!$A$49&\"   \"&Be!$I$49&\"      \"&Be!$A$50&\"   \"&Be!$I$50&CHAR(10)&Be!$A$51&\"   \"&Be!$I$51&\"      \"&Be!$A$52&\"   \"&Be!$I$52&CHAR(10)&Be!$A$53&\"   \"&Be!$I$53&\"      \"&Be!$A$54&\"   \"&Be!$I$54&CHAR(10)&\"     \"&Be!$K$53&\"     \"&Be!$K$54","v":"Kossuth Lajos Általános Iskola Nagyvenyim\nBalogh Mátyás   211      Hekele Dániel   358\nKolompár Lajos   313      Kolompár Milán Rómeó   297\nMess Ferenc Gergő   263      Wéber Róbert   316\n     4×100     133"},{"$f":"Be!$K$49","v":1680}]
["4.",{"$f":"Be!$A$87&CHAR(10)&Be!$A$89&\"   \"&Be!$I$89&\"      \"&Be!$A$90&\"   \"&Be!$I$90&CHAR(10)&Be!$A$91&\"   \"&Be!$I$91&\"      \"&Be!$A$92&\"   \"&Be!$I$92&CHAR(10)&Be!$A$93&\"   \"&Be!$I$93&\"      \"&Be!$A$94&\"   \"&Be!$I$94&CHAR(10)&\"     \"&Be!$K$93&\"     \"&Be!$K$94","v":"Gorsium Általános Iskola és Csősz Általános Iskola Tagintézmény Tác\nCsehák Botond   294      Dallos Mirkó Benedek   251\nGellén Zsolt Patrik   284      Szauter Bercel   229\nSzimander Gergő   179      Trenka Ádám   329\n     4×100     149"},{"$f":"Be!$K$89","v":1536}]
["5.",{"$f":"Be!$A$37&CHAR(10)&Be!$A$39&\"   \"&Be!$I$39&\"      \"&Be!$A$40&\"   \"&Be!$I$40&CHAR(10)&Be!$A$41&\"   \"&Be!$I$41&\"      \"&Be!$A$42&\"   \"&Be!$I$42&CHAR(10)&Be!$A$43&\"   \"&Be!$I$43&\"      \"&Be!$A$44&\"   \"&Be!$I$44&CHAR(10)&\"     \"&Be!$K$43&\"     \"&Be!$K$44","v":"Szent Erzsébet Római Katolikus Általános Iskola Mór \nGellért Zsombor   247      Jánni Ákos   300\nLenchés Tamás   272      Szemeti Márton   267\nZsédely Levente   303      Krausz Dávid   211\n     4×100     128"},{"$f":"Be!$K$39","v":1517}]
["6.",{"$f":"Be!$A$77&CHAR(10)&Be!$A$79&\"   \"&Be!$I$79&\"      \"&Be!$A$80&\"   \"&Be!$I$80&CHAR(10)&Be!$A$81&\"   \"&Be!$I$81&\"      \"&Be!$A$82&\"   \"&Be!$I$82&CHAR(10)&Be!$A$83&\"   \"&Be!$I$83&\"      \"&Be!$A$84&\"   \"&Be!$I$84&CHAR(10)&\"     \"&Be!$K$83&\"     \"&Be!$K$84","v":"Vörösmarty Mihály Általános Iskola Székesfehérvár\nDávid Ármin   315      Fábián Barnabás   228\nSzalay Levente   258      Mészáros Noel   246\nSági Bálint   222         0\n     4×100     146"},{"$f":"Be!$K$79","v":1415}]
["7.",{"$f":"Be!$A$27&CHAR(10)&Be!$A$29&\"   \"&Be!$I$29&\"      \"&Be!$A$30&\"   \"&Be!$I$30&CHAR(10)&Be!$A$31&\"   \"&Be!$I$31&\"      \"&Be!$A$32&\"   \"&Be!$I$32&CHAR(10)&Be!$A$33&\"   \"&Be!$I$33&\"      \"&Be!$A$34&\"   \"&Be!$I$34&CHAR(10)&\"     \"&Be!$K$33&\"     \"&Be!$K$34","v":"Alcsútdobozi József Nádor Általános Iskola Alcsútdoboz\nÁngyás Ferenc János   239      Antal Márton   291\nBíró Ádám Levente   219       Budai Kristóf Tamás   259\nKeindl Gergő   208      Marton István   223\n     4×100     115"},{"$f":"Be!$K$29","v":1346}]
["8.",{"$f":"Be!$A$97&CHAR(10)&Be!$A$99&\"   \"&Be!$I$99&\"      \"&Be!$A$100&\"   \"&Be!$I$100&CHAR(10)&Be!$A$101&\"   \"&Be!$I$101&\"      \"&Be!$A$102&\"   \"&Be!$I$102&CHAR(10)&Be!$A$103&\"   \"&Be!$I$103&\"      \"&Be!$A$104&\"   \"&Be!$I$104&CHAR(10)&\"     \"&Be!$K$103&\"     \"&Be!$K$104","v":"\n   0         0\n   0         0\n   0         0\n     4×100     0"},{"$f":"Be!$K$99","v":0}]
["9.",{"$f":"Be!$A$107&CHAR(10)&Be!$A$109&\"   \"&Be!$I$109&\"      \"&Be!$A$110&\"   \"&Be!$I$110&CHAR(10)&Be!$A$111&\"   \"&Be!$I$111&\"      \"&Be!$A$112&\"   \"&Be!$I$112&CHAR(10)&Be!$A$113&\"   \"&Be!$I$113&\"      \"&Be!$A$114&\"   \"&Be!$I$114&CHAR(10)&\"     \"&Be!$K$113&\"     \"&Be!$K$114","v":"\n   0         0\n   0         0\n   0         0\n     4×100     0"},{"$f":"Be!$K$109","v":0}]
["10.",{"$f":"Be!$A$117&CHAR(10)&Be!$A$119&\"   \"&Be!$I$119&\"      \"&Be!$A$120&\"   \"&Be!$I$120&CHAR(10)&Be!$A$121&\"   \"&Be!$I$121&\"      \"&Be!$A$122&\"   \"&Be!$I$122&CHAR(10)&Be!$A$123&\"   \"&Be!$I$123&\"      \"&Be!$A$124&\"   \"&Be!$I$124&CHAR(10)&\"     \"&Be!$K$123&\"     \"&Be!$K$124","v":"\n   0         0\n   0         0\n   0         0\n     4×100     0"},{"$f":"Be!$K$119","v":0}]
["11.",{"$f":"Be!$A$127&CHAR(10)&Be!$A$129&\"   \"&Be!$I$129&\"      \"&Be!$A$130&\"   \"&Be!$I$130&CHAR(10)&Be!$A$131&\"   \"&Be!$I$131&\"      \"&Be!$A$132&\"   \"&Be!$I$132&CHAR(10)&Be!$A$133&\"   \"&Be!$I$133&\"      \"&Be!$A$134&\"   \"&Be!$I$134&CHAR(10)&\"     \"&Be!$K$133&\"     \"&Be!$K$134","v":"\n   0         0\n   0         0\n   0         0\n     4×100     0"},{"$f":"Be!$K$129","v":0}]
["12.",{"$f":"Be!$A$137&CHAR(10)&Be!$A$139&\"   \"&Be!$I$139&\"      \"&Be!$A$140&\"   \"&Be!$I$140&CHAR(10)&Be!$A$141&\"   \"&Be!$I$141&\"      \"&Be!$A$142&\"   \"&Be!$I$142&CHAR(10)&Be!$A$143&\"   \"&Be!$I$143&\"      \"&Be!$A$144&\"   \"&Be!$I$144&CHAR(10)&\"     \"&Be!$K$143&\"     \"&Be!$K$144","v":"\n   0         0\n   0         0\n   0         0\n     4×100     0"},{"$f":"Be!$K$139","v":0}]
["13.",{"$f":"Be!$A$147&CHAR(10)&Be!$A$149&\"   \"&Be!$I$149&\"      \"&Be!$A$150&\"   \"&Be!$I$150&CHAR(10)&Be!$A$151&\"   \"&Be!$I$151&\"      \"&Be!$A$152&\"   \"&Be!$I$152&CHAR(10)&Be!$A$153&\"   \"&Be!$I$153&\"      \"&Be!$A$154&\"   \"&Be!$I$154&CHAR(10)&\"     \"&Be!$K$153&\"     \"&Be!$K$154","v":"\n   0         0\n   0         0\n   0         0\n     4×100     0"},{"$f":"Be!$K$149","v":0}]
["14.",{"$f":"Be!$A$157&CHAR(10)&Be!$A$159&\"   \"&Be!$I$159&\"      \"&Be!$A$160&\"   \"&Be!$I$160&CHAR(10)&Be!$A$161&\"   \"&Be!$I$161&\"      \"&Be!$A$162&\"   \"&Be!$I$162&CHAR(10)&Be!$A$163&\"   \"&Be!$I$163&\"      \"&Be!$A$164&\"   \"&Be!$I$164&CHAR(10)&\"     \"&Be!$K$163&\"     \"&Be!$K$164","v":"\n   0         0\n   0         0\n   0         0\n     4×100     0"},{"$f":"Be!$K$159","v":0}]
["15.",{"$f":"Be!$A$167&CHAR(10)&Be!$A$169&\"   \"&Be!$I$169&\"      \"&Be!$A$170&\"   \"&Be!$I$170&CHAR(10)&Be!$A$171&\"   \"&Be!$I$171&\"      \"&Be!$A$172&\"   \"&Be!$I$172&CHAR(10)&Be!$A$173&\"   \"&Be!$I$173&\"      \"&Be!$A$174&\"   \"&Be!$I$174&CHAR(10)&\"     \"&Be!$K$173&\"     \"&Be!$K$174","v":"\n   0         0\n   0         0\n   0         0\n     4×100     0"},{"$f":"Be!$K$169","v":0}]
["16.",{"$f":"Be!$A$177&CHAR(10)&Be!$A$179&\"   \"&Be!$I$179&\"      \"&Be!$A$180&\"   \"&Be!$I$180&CHAR(10)&Be!$A$181&\"   \"&Be!$I$181&\"      \"&Be!$A$182&\"   \"&Be!$I$182&CHAR(10)&Be!$A$183&\"   \"&Be!$I$183&\"      \"&Be!$A$184&\"   \"&Be!$I$184&CHAR(10)&\"     \"&Be!$K$183&\"     \"&Be!$K$184","v":"\n   0         0\n   0         0\n   0         0\n     4×100     0"},{"$f":"Be!$K$179","v":0}]
["17.",{"$f":"Be!$A$187&CHAR(10)&Be!$A$189&\"   \"&Be!$I$189&\"      \"&Be!$A$190&\"   \"&Be!$I$190&CHAR(10)&Be!$A$191&\"   \"&Be!$I$191&\"      \"&Be!$A$192&\"   \"&Be!$I$192&CHAR(10)&Be!$A$193&\"   \"&Be!$I$193&\"      \"&Be!$A$194&\"   \"&Be!$I$194&CHAR(10)&\"     \"&Be!$K$193&\"     \"&Be!$K$194","v":"\n   0         0\n   0         0\n   0         0\n     4×100     0"},{"$f":"Be!$K$189","v":0}]
["18.",{"$f":"Be!$A$197&CHAR(10)&Be!$A$199&\"   \"&Be!$I$199&\"      \"&Be!$A$200&\"   \"&Be!$I$200&CHAR(10)&Be!$A$201&\"   \"&Be!$I$201&\"      \"&Be!$A$202&\"   \"&Be!$I$202&CHAR(10)&Be!$A$203&\"   \"&Be!$I$203&\"      \"&Be!$A$204&\"   \"&Be!$I$204&CHAR(10)&\"     \"&Be!$K$203&\"     \"&Be!$K$204","v":"\n   0         0\n   0         0\n   0         0\n     4×100     0"},{"$f":"Be!$K$199","v":0}]
["19.",{"$f":"Be!$A$207&CHAR(10)&Be!$A$209&\"   \"&Be!$I$209&\"      \"&Be!$A$210&\"   \"&Be!$I$210&CHAR(10)&Be!$A$211&\"   \"&Be!$I$211&\"      \"&Be!$A$212&\"   \"&Be!$I$212&CHAR(10)&Be!$A$213&\"   \"&Be!$I$213&\"      \"&Be!$A$214&\"   \"&Be!$I$214&CHAR(10)&\"     \"&Be!$K$213&\"     \"&Be!$K$214","v":"\n   0         0\n   0         0\n   0         0\n     4×100     0"},{"$f":"Be!$K$209","v":0}]
["20.",{"$f":"Be!$A$217&CHAR(10)&Be!$A$219&\"   \"&Be!$I$219&\"      \"&Be!$A$220&\"   \"&Be!$I$220&CHAR(10)&Be!$A$221&\"   \"&Be!$I$221&\"      \"&Be!$A$222&\"   \"&Be!$I$222&CHAR(10)&Be!$A$223&\"   \"&Be!$I$223&\"      \"&Be!$A$224&\"   \"&Be!$I$224&CHAR(10)&\"     \"&Be!$K$223&\"     \"&Be!$K$224","v":"\n   0         0\n   0         0\n   0         0\n     4×100     0"},{"$f":"Be!$K$219","v":0}]
["21.",{"$f":"Be!$A$227&CHAR(10)&Be!$A$229&\"   \"&Be!$I$229&\"      \"&Be!$A$230&\"   \"&Be!$I$230&CHAR(10)&Be!$A$231&\"   \"&Be!$I$231&\"      \"&Be!$A$232&\"   \"&Be!$I$232&CHAR(10)&Be!$A$233&\"   \"&Be!$I$233&\"      \"&Be!$A$234&\"   \"&Be!$I$234&CHAR(10)&\"     \"&Be!$K$233&\"     \"&Be!$K$234","v":"\n   0         0\n   0         0\n   0         0\n     4×100     0"},{"$f":"Be!$K$229","v":0}]
["22.",{"$f":"Be!$A$237&CHAR(10)&Be!$A$239&\"   \"&Be!$I$239&\"      \"&Be!$A$240&\"   \"&Be!$I$240&CHAR(10)&Be!$A$241&\"   \"&Be!$I$241&\"      \"&Be!$A$242&\"   \"&Be!$I$242&CHAR(10)&Be!$A$243&\"   \"&Be!$I$243&\"      \"&Be!$A$244&\"   \"&Be!$I$244&CHAR(10)&\"     \"&Be!$K$243&\"     \"&Be!$K$244","v":"\n   0         0\n   0         0\n   0         0\n     4×100     0"},{"$f":"Be!$K$239","v":0}]